BEGIN:VCALENDAR
VERSION:2.0
PRODID:-//Explore Apex - ECPv6.15.20//NONSGML v1.0//EN
CALSCALE:GREGORIAN
METHOD:PUBLISH
X-ORIGINAL-URL:https://exploreapexnc.com
X-WR-CALDESC:Events for Explore Apex
REFRESH-INTERVAL;VALUE=DURATION:PT1H
X-Robots-Tag:noindex
X-PUBLISHED-TTL:PT1H
BEGIN:VTIMEZONE
TZID:UTC
BEGIN:STANDARD
TZOFFSETFROM:+0000
TZOFFSETTO:+0000
TZNAME:UTC
DTSTART:20260101T000000
END:STANDARD
END:VTIMEZONE
BEGIN:VEVENT
DTSTART;TZID=UTC:20270102T080000
DTEND;TZID=UTC:20270102T120000
DTSTAMP:20260423T201918
CREATED:20260414T171018Z
LAST-MODIFIED:20260414T171018Z
UID:10001313-1798876800-1798891200@exploreapexnc.com
SUMMARY:Apex Farmers Market
DESCRIPTION:Head to Downtown Apex every Saturday morning and explore the outdoor vendor booths offering fresh produce\, meat and seafood\, baked goods\, prepared items\, and handmade crafts\, jewelry\, and art. The vendors change weekly\, but many of your favorites are there on repeat! Market hours are 8 am – 12 pm (April through October)\, and 9am – 12 pm (November though March). See you there!
URL:https://exploreapexnc.com/event-single-post-name/apex-farmers-market-5/2027-01-02/
ATTACH;FMTTYPE=image/png:https://exploreapexnc.com/wp-content/uploads/2026/04/Screenshot-2026-04-08-123450.png
END:VEVENT
BEGIN:VEVENT
DTSTART;TZID=UTC:20270109T080000
DTEND;TZID=UTC:20270109T120000
DTSTAMP:20260423T201918
CREATED:20260414T171018Z
LAST-MODIFIED:20260414T171018Z
UID:10001314-1799481600-1799496000@exploreapexnc.com
SUMMARY:Apex Farmers Market
DESCRIPTION:Head to Downtown Apex every Saturday morning and explore the outdoor vendor booths offering fresh produce\, meat and seafood\, baked goods\, prepared items\, and handmade crafts\, jewelry\, and art. The vendors change weekly\, but many of your favorites are there on repeat! Market hours are 8 am – 12 pm (April through October)\, and 9am – 12 pm (November though March). See you there!
URL:https://exploreapexnc.com/event-single-post-name/apex-farmers-market-5/2027-01-09/
ATTACH;FMTTYPE=image/png:https://exploreapexnc.com/wp-content/uploads/2026/04/Screenshot-2026-04-08-123450.png
END:VEVENT
BEGIN:VEVENT
DTSTART;TZID=UTC:20270116T080000
DTEND;TZID=UTC:20270116T120000
DTSTAMP:20260423T201918
CREATED:20260414T171018Z
LAST-MODIFIED:20260414T171018Z
UID:10001315-1800086400-1800100800@exploreapexnc.com
SUMMARY:Apex Farmers Market
DESCRIPTION:Head to Downtown Apex every Saturday morning and explore the outdoor vendor booths offering fresh produce\, meat and seafood\, baked goods\, prepared items\, and handmade crafts\, jewelry\, and art. The vendors change weekly\, but many of your favorites are there on repeat! Market hours are 8 am – 12 pm (April through October)\, and 9am – 12 pm (November though March). See you there!
URL:https://exploreapexnc.com/event-single-post-name/apex-farmers-market-5/2027-01-16/
ATTACH;FMTTYPE=image/png:https://exploreapexnc.com/wp-content/uploads/2026/04/Screenshot-2026-04-08-123450.png
END:VEVENT
BEGIN:VEVENT
DTSTART;TZID=UTC:20270123T080000
DTEND;TZID=UTC:20270123T120000
DTSTAMP:20260423T201918
CREATED:20260414T171018Z
LAST-MODIFIED:20260414T171018Z
UID:10001316-1800691200-1800705600@exploreapexnc.com
SUMMARY:Apex Farmers Market
DESCRIPTION:Head to Downtown Apex every Saturday morning and explore the outdoor vendor booths offering fresh produce\, meat and seafood\, baked goods\, prepared items\, and handmade crafts\, jewelry\, and art. The vendors change weekly\, but many of your favorites are there on repeat! Market hours are 8 am – 12 pm (April through October)\, and 9am – 12 pm (November though March). See you there!
URL:https://exploreapexnc.com/event-single-post-name/apex-farmers-market-5/2027-01-23/
ATTACH;FMTTYPE=image/png:https://exploreapexnc.com/wp-content/uploads/2026/04/Screenshot-2026-04-08-123450.png
END:VEVENT
BEGIN:VEVENT
DTSTART;TZID=UTC:20270130T080000
DTEND;TZID=UTC:20270130T120000
DTSTAMP:20260423T201918
CREATED:20260414T171018Z
LAST-MODIFIED:20260414T171018Z
UID:10001317-1801296000-1801310400@exploreapexnc.com
SUMMARY:Apex Farmers Market
DESCRIPTION:Head to Downtown Apex every Saturday morning and explore the outdoor vendor booths offering fresh produce\, meat and seafood\, baked goods\, prepared items\, and handmade crafts\, jewelry\, and art. The vendors change weekly\, but many of your favorites are there on repeat! Market hours are 8 am – 12 pm (April through October)\, and 9am – 12 pm (November though March). See you there!
URL:https://exploreapexnc.com/event-single-post-name/apex-farmers-market-5/2027-01-30/
ATTACH;FMTTYPE=image/png:https://exploreapexnc.com/wp-content/uploads/2026/04/Screenshot-2026-04-08-123450.png
END:VEVENT
BEGIN:VEVENT
DTSTART;TZID=UTC:20270206T080000
DTEND;TZID=UTC:20270206T120000
DTSTAMP:20260423T201918
CREATED:20260414T171018Z
LAST-MODIFIED:20260414T171018Z
UID:10001318-1801900800-1801915200@exploreapexnc.com
SUMMARY:Apex Farmers Market
DESCRIPTION:Head to Downtown Apex every Saturday morning and explore the outdoor vendor booths offering fresh produce\, meat and seafood\, baked goods\, prepared items\, and handmade crafts\, jewelry\, and art. The vendors change weekly\, but many of your favorites are there on repeat! Market hours are 8 am – 12 pm (April through October)\, and 9am – 12 pm (November though March). See you there!
URL:https://exploreapexnc.com/event-single-post-name/apex-farmers-market-5/2027-02-06/
ATTACH;FMTTYPE=image/png:https://exploreapexnc.com/wp-content/uploads/2026/04/Screenshot-2026-04-08-123450.png
END:VEVENT
BEGIN:VEVENT
DTSTART;TZID=UTC:20270213T080000
DTEND;TZID=UTC:20270213T120000
DTSTAMP:20260423T201918
CREATED:20260414T171018Z
LAST-MODIFIED:20260414T171018Z
UID:10001319-1802505600-1802520000@exploreapexnc.com
SUMMARY:Apex Farmers Market
DESCRIPTION:Head to Downtown Apex every Saturday morning and explore the outdoor vendor booths offering fresh produce\, meat and seafood\, baked goods\, prepared items\, and handmade crafts\, jewelry\, and art. The vendors change weekly\, but many of your favorites are there on repeat! Market hours are 8 am – 12 pm (April through October)\, and 9am – 12 pm (November though March). See you there!
URL:https://exploreapexnc.com/event-single-post-name/apex-farmers-market-5/2027-02-13/
ATTACH;FMTTYPE=image/png:https://exploreapexnc.com/wp-content/uploads/2026/04/Screenshot-2026-04-08-123450.png
END:VEVENT
BEGIN:VEVENT
DTSTART;TZID=UTC:20270220T080000
DTEND;TZID=UTC:20270220T120000
DTSTAMP:20260423T201918
CREATED:20260414T171018Z
LAST-MODIFIED:20260414T171018Z
UID:10001320-1803110400-1803124800@exploreapexnc.com
SUMMARY:Apex Farmers Market
DESCRIPTION:Head to Downtown Apex every Saturday morning and explore the outdoor vendor booths offering fresh produce\, meat and seafood\, baked goods\, prepared items\, and handmade crafts\, jewelry\, and art. The vendors change weekly\, but many of your favorites are there on repeat! Market hours are 8 am – 12 pm (April through October)\, and 9am – 12 pm (November though March). See you there!
URL:https://exploreapexnc.com/event-single-post-name/apex-farmers-market-5/2027-02-20/
ATTACH;FMTTYPE=image/png:https://exploreapexnc.com/wp-content/uploads/2026/04/Screenshot-2026-04-08-123450.png
END:VEVENT
BEGIN:VEVENT
DTSTART;TZID=UTC:20270227T080000
DTEND;TZID=UTC:20270227T120000
DTSTAMP:20260423T201918
CREATED:20260414T171018Z
LAST-MODIFIED:20260414T171018Z
UID:10001321-1803715200-1803729600@exploreapexnc.com
SUMMARY:Apex Farmers Market
DESCRIPTION:Head to Downtown Apex every Saturday morning and explore the outdoor vendor booths offering fresh produce\, meat and seafood\, baked goods\, prepared items\, and handmade crafts\, jewelry\, and art. The vendors change weekly\, but many of your favorites are there on repeat! Market hours are 8 am – 12 pm (April through October)\, and 9am – 12 pm (November though March). See you there!
URL:https://exploreapexnc.com/event-single-post-name/apex-farmers-market-5/2027-02-27/
ATTACH;FMTTYPE=image/png:https://exploreapexnc.com/wp-content/uploads/2026/04/Screenshot-2026-04-08-123450.png
END:VEVENT
BEGIN:VEVENT
DTSTART;TZID=UTC:20270306T080000
DTEND;TZID=UTC:20270306T120000
DTSTAMP:20260423T201918
CREATED:20260414T171018Z
LAST-MODIFIED:20260414T171018Z
UID:10001322-1804320000-1804334400@exploreapexnc.com
SUMMARY:Apex Farmers Market
DESCRIPTION:Head to Downtown Apex every Saturday morning and explore the outdoor vendor booths offering fresh produce\, meat and seafood\, baked goods\, prepared items\, and handmade crafts\, jewelry\, and art. The vendors change weekly\, but many of your favorites are there on repeat! Market hours are 8 am – 12 pm (April through October)\, and 9am – 12 pm (November though March). See you there!
URL:https://exploreapexnc.com/event-single-post-name/apex-farmers-market-5/2027-03-06/
ATTACH;FMTTYPE=image/png:https://exploreapexnc.com/wp-content/uploads/2026/04/Screenshot-2026-04-08-123450.png
END:VEVENT
BEGIN:VEVENT
DTSTART;TZID=UTC:20270313T080000
DTEND;TZID=UTC:20270313T120000
DTSTAMP:20260423T201918
CREATED:20260414T171018Z
LAST-MODIFIED:20260414T171018Z
UID:10001323-1804924800-1804939200@exploreapexnc.com
SUMMARY:Apex Farmers Market
DESCRIPTION:Head to Downtown Apex every Saturday morning and explore the outdoor vendor booths offering fresh produce\, meat and seafood\, baked goods\, prepared items\, and handmade crafts\, jewelry\, and art. The vendors change weekly\, but many of your favorites are there on repeat! Market hours are 8 am – 12 pm (April through October)\, and 9am – 12 pm (November though March). See you there!
URL:https://exploreapexnc.com/event-single-post-name/apex-farmers-market-5/2027-03-13/
ATTACH;FMTTYPE=image/png:https://exploreapexnc.com/wp-content/uploads/2026/04/Screenshot-2026-04-08-123450.png
END:VEVENT
BEGIN:VEVENT
DTSTART;TZID=UTC:20270320T080000
DTEND;TZID=UTC:20270320T120000
DTSTAMP:20260423T201918
CREATED:20260414T171018Z
LAST-MODIFIED:20260414T171018Z
UID:10001324-1805529600-1805544000@exploreapexnc.com
SUMMARY:Apex Farmers Market
DESCRIPTION:Head to Downtown Apex every Saturday morning and explore the outdoor vendor booths offering fresh produce\, meat and seafood\, baked goods\, prepared items\, and handmade crafts\, jewelry\, and art. The vendors change weekly\, but many of your favorites are there on repeat! Market hours are 8 am – 12 pm (April through October)\, and 9am – 12 pm (November though March). See you there!
URL:https://exploreapexnc.com/event-single-post-name/apex-farmers-market-5/2027-03-20/
ATTACH;FMTTYPE=image/png:https://exploreapexnc.com/wp-content/uploads/2026/04/Screenshot-2026-04-08-123450.png
END:VEVENT
BEGIN:VEVENT
DTSTART;TZID=UTC:20270327T080000
DTEND;TZID=UTC:20270327T120000
DTSTAMP:20260423T201918
CREATED:20260414T171018Z
LAST-MODIFIED:20260414T171018Z
UID:10001325-1806134400-1806148800@exploreapexnc.com
SUMMARY:Apex Farmers Market
DESCRIPTION:Head to Downtown Apex every Saturday morning and explore the outdoor vendor booths offering fresh produce\, meat and seafood\, baked goods\, prepared items\, and handmade crafts\, jewelry\, and art. The vendors change weekly\, but many of your favorites are there on repeat! Market hours are 8 am – 12 pm (April through October)\, and 9am – 12 pm (November though March). See you there!
URL:https://exploreapexnc.com/event-single-post-name/apex-farmers-market-5/2027-03-27/
ATTACH;FMTTYPE=image/png:https://exploreapexnc.com/wp-content/uploads/2026/04/Screenshot-2026-04-08-123450.png
END:VEVENT
BEGIN:VEVENT
DTSTART;TZID=UTC:20270403T080000
DTEND;TZID=UTC:20270403T120000
DTSTAMP:20260423T201918
CREATED:20260414T171018Z
LAST-MODIFIED:20260414T171018Z
UID:10001326-1806739200-1806753600@exploreapexnc.com
SUMMARY:Apex Farmers Market
DESCRIPTION:Head to Downtown Apex every Saturday morning and explore the outdoor vendor booths offering fresh produce\, meat and seafood\, baked goods\, prepared items\, and handmade crafts\, jewelry\, and art. The vendors change weekly\, but many of your favorites are there on repeat! Market hours are 8 am – 12 pm (April through October)\, and 9am – 12 pm (November though March). See you there!
URL:https://exploreapexnc.com/event-single-post-name/apex-farmers-market-5/2027-04-03/
ATTACH;FMTTYPE=image/png:https://exploreapexnc.com/wp-content/uploads/2026/04/Screenshot-2026-04-08-123450.png
END:VEVENT
BEGIN:VEVENT
DTSTART;TZID=UTC:20270410T080000
DTEND;TZID=UTC:20270410T120000
DTSTAMP:20260423T201918
CREATED:20260414T171018Z
LAST-MODIFIED:20260414T171018Z
UID:10001327-1807344000-1807358400@exploreapexnc.com
SUMMARY:Apex Farmers Market
DESCRIPTION:Head to Downtown Apex every Saturday morning and explore the outdoor vendor booths offering fresh produce\, meat and seafood\, baked goods\, prepared items\, and handmade crafts\, jewelry\, and art. The vendors change weekly\, but many of your favorites are there on repeat! Market hours are 8 am – 12 pm (April through October)\, and 9am – 12 pm (November though March). See you there!
URL:https://exploreapexnc.com/event-single-post-name/apex-farmers-market-5/2027-04-10/
ATTACH;FMTTYPE=image/png:https://exploreapexnc.com/wp-content/uploads/2026/04/Screenshot-2026-04-08-123450.png
END:VEVENT
BEGIN:VEVENT
DTSTART;TZID=UTC:20270417T080000
DTEND;TZID=UTC:20270417T120000
DTSTAMP:20260423T201918
CREATED:20260414T171018Z
LAST-MODIFIED:20260414T171018Z
UID:10001328-1807948800-1807963200@exploreapexnc.com
SUMMARY:Apex Farmers Market
DESCRIPTION:Head to Downtown Apex every Saturday morning and explore the outdoor vendor booths offering fresh produce\, meat and seafood\, baked goods\, prepared items\, and handmade crafts\, jewelry\, and art. The vendors change weekly\, but many of your favorites are there on repeat! Market hours are 8 am – 12 pm (April through October)\, and 9am – 12 pm (November though March). See you there!
URL:https://exploreapexnc.com/event-single-post-name/apex-farmers-market-5/2027-04-17/
ATTACH;FMTTYPE=image/png:https://exploreapexnc.com/wp-content/uploads/2026/04/Screenshot-2026-04-08-123450.png
END:VEVENT
BEGIN:VEVENT
DTSTART;TZID=UTC:20270424T080000
DTEND;TZID=UTC:20270424T120000
DTSTAMP:20260423T201918
CREATED:20260414T171018Z
LAST-MODIFIED:20260414T171018Z
UID:10001329-1808553600-1808568000@exploreapexnc.com
SUMMARY:Apex Farmers Market
DESCRIPTION:Head to Downtown Apex every Saturday morning and explore the outdoor vendor booths offering fresh produce\, meat and seafood\, baked goods\, prepared items\, and handmade crafts\, jewelry\, and art. The vendors change weekly\, but many of your favorites are there on repeat! Market hours are 8 am – 12 pm (April through October)\, and 9am – 12 pm (November though March). See you there!
URL:https://exploreapexnc.com/event-single-post-name/apex-farmers-market-5/2027-04-24/
ATTACH;FMTTYPE=image/png:https://exploreapexnc.com/wp-content/uploads/2026/04/Screenshot-2026-04-08-123450.png
END:VEVENT
BEGIN:VEVENT
DTSTART;TZID=UTC:20270501T080000
DTEND;TZID=UTC:20270501T120000
DTSTAMP:20260423T201918
CREATED:20260414T171018Z
LAST-MODIFIED:20260414T171018Z
UID:10001330-1809158400-1809172800@exploreapexnc.com
SUMMARY:Apex Farmers Market
DESCRIPTION:Head to Downtown Apex every Saturday morning and explore the outdoor vendor booths offering fresh produce\, meat and seafood\, baked goods\, prepared items\, and handmade crafts\, jewelry\, and art. The vendors change weekly\, but many of your favorites are there on repeat! Market hours are 8 am – 12 pm (April through October)\, and 9am – 12 pm (November though March). See you there!
URL:https://exploreapexnc.com/event-single-post-name/apex-farmers-market-5/2027-05-01/
ATTACH;FMTTYPE=image/png:https://exploreapexnc.com/wp-content/uploads/2026/04/Screenshot-2026-04-08-123450.png
END:VEVENT
BEGIN:VEVENT
DTSTART;TZID=UTC:20270508T080000
DTEND;TZID=UTC:20270508T120000
DTSTAMP:20260423T201918
CREATED:20260414T171018Z
LAST-MODIFIED:20260414T171018Z
UID:10001331-1809763200-1809777600@exploreapexnc.com
SUMMARY:Apex Farmers Market
DESCRIPTION:Head to Downtown Apex every Saturday morning and explore the outdoor vendor booths offering fresh produce\, meat and seafood\, baked goods\, prepared items\, and handmade crafts\, jewelry\, and art. The vendors change weekly\, but many of your favorites are there on repeat! Market hours are 8 am – 12 pm (April through October)\, and 9am – 12 pm (November though March). See you there!
URL:https://exploreapexnc.com/event-single-post-name/apex-farmers-market-5/2027-05-08/
ATTACH;FMTTYPE=image/png:https://exploreapexnc.com/wp-content/uploads/2026/04/Screenshot-2026-04-08-123450.png
END:VEVENT
BEGIN:VEVENT
DTSTART;TZID=UTC:20270515T080000
DTEND;TZID=UTC:20270515T120000
DTSTAMP:20260423T201918
CREATED:20260414T171018Z
LAST-MODIFIED:20260414T171018Z
UID:10001332-1810368000-1810382400@exploreapexnc.com
SUMMARY:Apex Farmers Market
DESCRIPTION:Head to Downtown Apex every Saturday morning and explore the outdoor vendor booths offering fresh produce\, meat and seafood\, baked goods\, prepared items\, and handmade crafts\, jewelry\, and art. The vendors change weekly\, but many of your favorites are there on repeat! Market hours are 8 am – 12 pm (April through October)\, and 9am – 12 pm (November though March). See you there!
URL:https://exploreapexnc.com/event-single-post-name/apex-farmers-market-5/2027-05-15/
ATTACH;FMTTYPE=image/png:https://exploreapexnc.com/wp-content/uploads/2026/04/Screenshot-2026-04-08-123450.png
END:VEVENT
BEGIN:VEVENT
DTSTART;TZID=UTC:20270522T080000
DTEND;TZID=UTC:20270522T120000
DTSTAMP:20260423T201918
CREATED:20260414T171018Z
LAST-MODIFIED:20260414T171018Z
UID:10001333-1810972800-1810987200@exploreapexnc.com
SUMMARY:Apex Farmers Market
DESCRIPTION:Head to Downtown Apex every Saturday morning and explore the outdoor vendor booths offering fresh produce\, meat and seafood\, baked goods\, prepared items\, and handmade crafts\, jewelry\, and art. The vendors change weekly\, but many of your favorites are there on repeat! Market hours are 8 am – 12 pm (April through October)\, and 9am – 12 pm (November though March). See you there!
URL:https://exploreapexnc.com/event-single-post-name/apex-farmers-market-5/2027-05-22/
ATTACH;FMTTYPE=image/png:https://exploreapexnc.com/wp-content/uploads/2026/04/Screenshot-2026-04-08-123450.png
END:VEVENT
BEGIN:VEVENT
DTSTART;TZID=UTC:20270529T080000
DTEND;TZID=UTC:20270529T120000
DTSTAMP:20260423T201918
CREATED:20260414T171018Z
LAST-MODIFIED:20260414T171018Z
UID:10001334-1811577600-1811592000@exploreapexnc.com
SUMMARY:Apex Farmers Market
DESCRIPTION:Head to Downtown Apex every Saturday morning and explore the outdoor vendor booths offering fresh produce\, meat and seafood\, baked goods\, prepared items\, and handmade crafts\, jewelry\, and art. The vendors change weekly\, but many of your favorites are there on repeat! Market hours are 8 am – 12 pm (April through October)\, and 9am – 12 pm (November though March). See you there!
URL:https://exploreapexnc.com/event-single-post-name/apex-farmers-market-5/2027-05-29/
ATTACH;FMTTYPE=image/png:https://exploreapexnc.com/wp-content/uploads/2026/04/Screenshot-2026-04-08-123450.png
END:VEVENT
BEGIN:VEVENT
DTSTART;TZID=UTC:20270605T080000
DTEND;TZID=UTC:20270605T120000
DTSTAMP:20260423T201918
CREATED:20260414T171018Z
LAST-MODIFIED:20260414T171018Z
UID:10001335-1812182400-1812196800@exploreapexnc.com
SUMMARY:Apex Farmers Market
DESCRIPTION:Head to Downtown Apex every Saturday morning and explore the outdoor vendor booths offering fresh produce\, meat and seafood\, baked goods\, prepared items\, and handmade crafts\, jewelry\, and art. The vendors change weekly\, but many of your favorites are there on repeat! Market hours are 8 am – 12 pm (April through October)\, and 9am – 12 pm (November though March). See you there!
URL:https://exploreapexnc.com/event-single-post-name/apex-farmers-market-5/2027-06-05/
ATTACH;FMTTYPE=image/png:https://exploreapexnc.com/wp-content/uploads/2026/04/Screenshot-2026-04-08-123450.png
END:VEVENT
BEGIN:VEVENT
DTSTART;TZID=UTC:20270612T080000
DTEND;TZID=UTC:20270612T120000
DTSTAMP:20260423T201918
CREATED:20260414T171018Z
LAST-MODIFIED:20260414T171018Z
UID:10001336-1812787200-1812801600@exploreapexnc.com
SUMMARY:Apex Farmers Market
DESCRIPTION:Head to Downtown Apex every Saturday morning and explore the outdoor vendor booths offering fresh produce\, meat and seafood\, baked goods\, prepared items\, and handmade crafts\, jewelry\, and art. The vendors change weekly\, but many of your favorites are there on repeat! Market hours are 8 am – 12 pm (April through October)\, and 9am – 12 pm (November though March). See you there!
URL:https://exploreapexnc.com/event-single-post-name/apex-farmers-market-5/2027-06-12/
ATTACH;FMTTYPE=image/png:https://exploreapexnc.com/wp-content/uploads/2026/04/Screenshot-2026-04-08-123450.png
END:VEVENT
BEGIN:VEVENT
DTSTART;TZID=UTC:20270619T080000
DTEND;TZID=UTC:20270619T120000
DTSTAMP:20260423T201918
CREATED:20260414T171018Z
LAST-MODIFIED:20260414T171018Z
UID:10001337-1813392000-1813406400@exploreapexnc.com
SUMMARY:Apex Farmers Market
DESCRIPTION:Head to Downtown Apex every Saturday morning and explore the outdoor vendor booths offering fresh produce\, meat and seafood\, baked goods\, prepared items\, and handmade crafts\, jewelry\, and art. The vendors change weekly\, but many of your favorites are there on repeat! Market hours are 8 am – 12 pm (April through October)\, and 9am – 12 pm (November though March). See you there!
URL:https://exploreapexnc.com/event-single-post-name/apex-farmers-market-5/2027-06-19/
ATTACH;FMTTYPE=image/png:https://exploreapexnc.com/wp-content/uploads/2026/04/Screenshot-2026-04-08-123450.png
END:VEVENT
BEGIN:VEVENT
DTSTART;TZID=UTC:20270626T080000
DTEND;TZID=UTC:20270626T120000
DTSTAMP:20260423T201918
CREATED:20260414T171018Z
LAST-MODIFIED:20260414T171018Z
UID:10001338-1813996800-1814011200@exploreapexnc.com
SUMMARY:Apex Farmers Market
DESCRIPTION:Head to Downtown Apex every Saturday morning and explore the outdoor vendor booths offering fresh produce\, meat and seafood\, baked goods\, prepared items\, and handmade crafts\, jewelry\, and art. The vendors change weekly\, but many of your favorites are there on repeat! Market hours are 8 am – 12 pm (April through October)\, and 9am – 12 pm (November though March). See you there!
URL:https://exploreapexnc.com/event-single-post-name/apex-farmers-market-5/2027-06-26/
ATTACH;FMTTYPE=image/png:https://exploreapexnc.com/wp-content/uploads/2026/04/Screenshot-2026-04-08-123450.png
END:VEVENT
BEGIN:VEVENT
DTSTART;TZID=UTC:20270703T080000
DTEND;TZID=UTC:20270703T120000
DTSTAMP:20260423T201918
CREATED:20260414T171018Z
LAST-MODIFIED:20260414T171018Z
UID:10001339-1814601600-1814616000@exploreapexnc.com
SUMMARY:Apex Farmers Market
DESCRIPTION:Head to Downtown Apex every Saturday morning and explore the outdoor vendor booths offering fresh produce\, meat and seafood\, baked goods\, prepared items\, and handmade crafts\, jewelry\, and art. The vendors change weekly\, but many of your favorites are there on repeat! Market hours are 8 am – 12 pm (April through October)\, and 9am – 12 pm (November though March). See you there!
URL:https://exploreapexnc.com/event-single-post-name/apex-farmers-market-5/2027-07-03/
ATTACH;FMTTYPE=image/png:https://exploreapexnc.com/wp-content/uploads/2026/04/Screenshot-2026-04-08-123450.png
END:VEVENT
BEGIN:VEVENT
DTSTART;TZID=UTC:20270710T080000
DTEND;TZID=UTC:20270710T120000
DTSTAMP:20260423T201918
CREATED:20260414T171018Z
LAST-MODIFIED:20260414T171018Z
UID:10001340-1815206400-1815220800@exploreapexnc.com
SUMMARY:Apex Farmers Market
DESCRIPTION:Head to Downtown Apex every Saturday morning and explore the outdoor vendor booths offering fresh produce\, meat and seafood\, baked goods\, prepared items\, and handmade crafts\, jewelry\, and art. The vendors change weekly\, but many of your favorites are there on repeat! Market hours are 8 am – 12 pm (April through October)\, and 9am – 12 pm (November though March). See you there!
URL:https://exploreapexnc.com/event-single-post-name/apex-farmers-market-5/2027-07-10/
ATTACH;FMTTYPE=image/png:https://exploreapexnc.com/wp-content/uploads/2026/04/Screenshot-2026-04-08-123450.png
END:VEVENT
BEGIN:VEVENT
DTSTART;TZID=UTC:20270717T080000
DTEND;TZID=UTC:20270717T120000
DTSTAMP:20260423T201918
CREATED:20260414T171018Z
LAST-MODIFIED:20260414T171018Z
UID:10001341-1815811200-1815825600@exploreapexnc.com
SUMMARY:Apex Farmers Market
DESCRIPTION:Head to Downtown Apex every Saturday morning and explore the outdoor vendor booths offering fresh produce\, meat and seafood\, baked goods\, prepared items\, and handmade crafts\, jewelry\, and art. The vendors change weekly\, but many of your favorites are there on repeat! Market hours are 8 am – 12 pm (April through October)\, and 9am – 12 pm (November though March). See you there!
URL:https://exploreapexnc.com/event-single-post-name/apex-farmers-market-5/2027-07-17/
ATTACH;FMTTYPE=image/png:https://exploreapexnc.com/wp-content/uploads/2026/04/Screenshot-2026-04-08-123450.png
END:VEVENT
BEGIN:VEVENT
DTSTART;TZID=UTC:20270724T080000
DTEND;TZID=UTC:20270724T120000
DTSTAMP:20260423T201918
CREATED:20260414T171018Z
LAST-MODIFIED:20260414T171018Z
UID:10001342-1816416000-1816430400@exploreapexnc.com
SUMMARY:Apex Farmers Market
DESCRIPTION:Head to Downtown Apex every Saturday morning and explore the outdoor vendor booths offering fresh produce\, meat and seafood\, baked goods\, prepared items\, and handmade crafts\, jewelry\, and art. The vendors change weekly\, but many of your favorites are there on repeat! Market hours are 8 am – 12 pm (April through October)\, and 9am – 12 pm (November though March). See you there!
URL:https://exploreapexnc.com/event-single-post-name/apex-farmers-market-5/2027-07-24/
ATTACH;FMTTYPE=image/png:https://exploreapexnc.com/wp-content/uploads/2026/04/Screenshot-2026-04-08-123450.png
END:VEVENT
END:VCALENDAR