BEGIN:VCALENDAR
VERSION:2.0
PRODID:-//Explore Apex - ECPv6.15.20//NONSGML v1.0//EN
CALSCALE:GREGORIAN
METHOD:PUBLISH
X-WR-CALNAME:Explore Apex
X-ORIGINAL-URL:https://exploreapexnc.com
X-WR-CALDESC:Events for Explore Apex
REFRESH-INTERVAL;VALUE=DURATION:PT1H
X-Robots-Tag:noindex
X-PUBLISHED-TTL:PT1H
BEGIN:VTIMEZONE
TZID:UTC
BEGIN:STANDARD
TZOFFSETFROM:+0000
TZOFFSETTO:+0000
TZNAME:UTC
DTSTART:20260101T000000
END:STANDARD
END:VTIMEZONE
BEGIN:VEVENT
DTSTART;TZID=UTC:20270619T080000
DTEND;TZID=UTC:20270619T120000
DTSTAMP:20260423T231813
CREATED:20260414T171018Z
LAST-MODIFIED:20260414T171018Z
UID:10001337-1813392000-1813406400@exploreapexnc.com
SUMMARY:Apex Farmers Market
DESCRIPTION:Head to Downtown Apex every Saturday morning and explore the outdoor vendor booths offering fresh produce\, meat and seafood\, baked goods\, prepared items\, and handmade crafts\, jewelry\, and art. The vendors change weekly\, but many of your favorites are there on repeat! Market hours are 8 am – 12 pm (April through October)\, and 9am – 12 pm (November though March). See you there!
URL:https://exploreapexnc.com/event-single-post-name/apex-farmers-market-5/2027-06-19/
ATTACH;FMTTYPE=image/png:https://exploreapexnc.com/wp-content/uploads/2026/04/Screenshot-2026-04-08-123450.png
END:VEVENT
BEGIN:VEVENT
DTSTART;TZID=UTC:20270626T080000
DTEND;TZID=UTC:20270626T120000
DTSTAMP:20260423T231813
CREATED:20260414T171018Z
LAST-MODIFIED:20260414T171018Z
UID:10001338-1813996800-1814011200@exploreapexnc.com
SUMMARY:Apex Farmers Market
DESCRIPTION:Head to Downtown Apex every Saturday morning and explore the outdoor vendor booths offering fresh produce\, meat and seafood\, baked goods\, prepared items\, and handmade crafts\, jewelry\, and art. The vendors change weekly\, but many of your favorites are there on repeat! Market hours are 8 am – 12 pm (April through October)\, and 9am – 12 pm (November though March). See you there!
URL:https://exploreapexnc.com/event-single-post-name/apex-farmers-market-5/2027-06-26/
ATTACH;FMTTYPE=image/png:https://exploreapexnc.com/wp-content/uploads/2026/04/Screenshot-2026-04-08-123450.png
END:VEVENT
BEGIN:VEVENT
DTSTART;TZID=UTC:20270703T080000
DTEND;TZID=UTC:20270703T120000
DTSTAMP:20260423T231813
CREATED:20260414T171018Z
LAST-MODIFIED:20260414T171018Z
UID:10001339-1814601600-1814616000@exploreapexnc.com
SUMMARY:Apex Farmers Market
DESCRIPTION:Head to Downtown Apex every Saturday morning and explore the outdoor vendor booths offering fresh produce\, meat and seafood\, baked goods\, prepared items\, and handmade crafts\, jewelry\, and art. The vendors change weekly\, but many of your favorites are there on repeat! Market hours are 8 am – 12 pm (April through October)\, and 9am – 12 pm (November though March). See you there!
URL:https://exploreapexnc.com/event-single-post-name/apex-farmers-market-5/2027-07-03/
ATTACH;FMTTYPE=image/png:https://exploreapexnc.com/wp-content/uploads/2026/04/Screenshot-2026-04-08-123450.png
END:VEVENT
BEGIN:VEVENT
DTSTART;TZID=UTC:20270710T080000
DTEND;TZID=UTC:20270710T120000
DTSTAMP:20260423T231813
CREATED:20260414T171018Z
LAST-MODIFIED:20260414T171018Z
UID:10001340-1815206400-1815220800@exploreapexnc.com
SUMMARY:Apex Farmers Market
DESCRIPTION:Head to Downtown Apex every Saturday morning and explore the outdoor vendor booths offering fresh produce\, meat and seafood\, baked goods\, prepared items\, and handmade crafts\, jewelry\, and art. The vendors change weekly\, but many of your favorites are there on repeat! Market hours are 8 am – 12 pm (April through October)\, and 9am – 12 pm (November though March). See you there!
URL:https://exploreapexnc.com/event-single-post-name/apex-farmers-market-5/2027-07-10/
ATTACH;FMTTYPE=image/png:https://exploreapexnc.com/wp-content/uploads/2026/04/Screenshot-2026-04-08-123450.png
END:VEVENT
BEGIN:VEVENT
DTSTART;TZID=UTC:20270717T080000
DTEND;TZID=UTC:20270717T120000
DTSTAMP:20260423T231813
CREATED:20260414T171018Z
LAST-MODIFIED:20260414T171018Z
UID:10001341-1815811200-1815825600@exploreapexnc.com
SUMMARY:Apex Farmers Market
DESCRIPTION:Head to Downtown Apex every Saturday morning and explore the outdoor vendor booths offering fresh produce\, meat and seafood\, baked goods\, prepared items\, and handmade crafts\, jewelry\, and art. The vendors change weekly\, but many of your favorites are there on repeat! Market hours are 8 am – 12 pm (April through October)\, and 9am – 12 pm (November though March). See you there!
URL:https://exploreapexnc.com/event-single-post-name/apex-farmers-market-5/2027-07-17/
ATTACH;FMTTYPE=image/png:https://exploreapexnc.com/wp-content/uploads/2026/04/Screenshot-2026-04-08-123450.png
END:VEVENT
BEGIN:VEVENT
DTSTART;TZID=UTC:20270724T080000
DTEND;TZID=UTC:20270724T120000
DTSTAMP:20260423T231813
CREATED:20260414T171018Z
LAST-MODIFIED:20260414T171018Z
UID:10001342-1816416000-1816430400@exploreapexnc.com
SUMMARY:Apex Farmers Market
DESCRIPTION:Head to Downtown Apex every Saturday morning and explore the outdoor vendor booths offering fresh produce\, meat and seafood\, baked goods\, prepared items\, and handmade crafts\, jewelry\, and art. The vendors change weekly\, but many of your favorites are there on repeat! Market hours are 8 am – 12 pm (April through October)\, and 9am – 12 pm (November though March). See you there!
URL:https://exploreapexnc.com/event-single-post-name/apex-farmers-market-5/2027-07-24/
ATTACH;FMTTYPE=image/png:https://exploreapexnc.com/wp-content/uploads/2026/04/Screenshot-2026-04-08-123450.png
END:VEVENT
BEGIN:VEVENT
DTSTART;TZID=UTC:20270731T080000
DTEND;TZID=UTC:20270731T120000
DTSTAMP:20260423T231813
CREATED:20260414T171018Z
LAST-MODIFIED:20260414T171018Z
UID:10001343-1817020800-1817035200@exploreapexnc.com
SUMMARY:Apex Farmers Market
DESCRIPTION:Head to Downtown Apex every Saturday morning and explore the outdoor vendor booths offering fresh produce\, meat and seafood\, baked goods\, prepared items\, and handmade crafts\, jewelry\, and art. The vendors change weekly\, but many of your favorites are there on repeat! Market hours are 8 am – 12 pm (April through October)\, and 9am – 12 pm (November though March). See you there!
URL:https://exploreapexnc.com/event-single-post-name/apex-farmers-market-5/2027-07-31/
ATTACH;FMTTYPE=image/png:https://exploreapexnc.com/wp-content/uploads/2026/04/Screenshot-2026-04-08-123450.png
END:VEVENT
BEGIN:VEVENT
DTSTART;TZID=UTC:20270807T080000
DTEND;TZID=UTC:20270807T120000
DTSTAMP:20260423T231813
CREATED:20260414T171018Z
LAST-MODIFIED:20260414T171018Z
UID:10001344-1817625600-1817640000@exploreapexnc.com
SUMMARY:Apex Farmers Market
DESCRIPTION:Head to Downtown Apex every Saturday morning and explore the outdoor vendor booths offering fresh produce\, meat and seafood\, baked goods\, prepared items\, and handmade crafts\, jewelry\, and art. The vendors change weekly\, but many of your favorites are there on repeat! Market hours are 8 am – 12 pm (April through October)\, and 9am – 12 pm (November though March). See you there!
URL:https://exploreapexnc.com/event-single-post-name/apex-farmers-market-5/2027-08-07/
ATTACH;FMTTYPE=image/png:https://exploreapexnc.com/wp-content/uploads/2026/04/Screenshot-2026-04-08-123450.png
END:VEVENT
BEGIN:VEVENT
DTSTART;TZID=UTC:20270814T080000
DTEND;TZID=UTC:20270814T120000
DTSTAMP:20260423T231813
CREATED:20260414T171018Z
LAST-MODIFIED:20260414T171018Z
UID:10001345-1818230400-1818244800@exploreapexnc.com
SUMMARY:Apex Farmers Market
DESCRIPTION:Head to Downtown Apex every Saturday morning and explore the outdoor vendor booths offering fresh produce\, meat and seafood\, baked goods\, prepared items\, and handmade crafts\, jewelry\, and art. The vendors change weekly\, but many of your favorites are there on repeat! Market hours are 8 am – 12 pm (April through October)\, and 9am – 12 pm (November though March). See you there!
URL:https://exploreapexnc.com/event-single-post-name/apex-farmers-market-5/2027-08-14/
ATTACH;FMTTYPE=image/png:https://exploreapexnc.com/wp-content/uploads/2026/04/Screenshot-2026-04-08-123450.png
END:VEVENT
BEGIN:VEVENT
DTSTART;TZID=UTC:20270821T080000
DTEND;TZID=UTC:20270821T120000
DTSTAMP:20260423T231813
CREATED:20260414T171018Z
LAST-MODIFIED:20260414T171018Z
UID:10001346-1818835200-1818849600@exploreapexnc.com
SUMMARY:Apex Farmers Market
DESCRIPTION:Head to Downtown Apex every Saturday morning and explore the outdoor vendor booths offering fresh produce\, meat and seafood\, baked goods\, prepared items\, and handmade crafts\, jewelry\, and art. The vendors change weekly\, but many of your favorites are there on repeat! Market hours are 8 am – 12 pm (April through October)\, and 9am – 12 pm (November though March). See you there!
URL:https://exploreapexnc.com/event-single-post-name/apex-farmers-market-5/2027-08-21/
ATTACH;FMTTYPE=image/png:https://exploreapexnc.com/wp-content/uploads/2026/04/Screenshot-2026-04-08-123450.png
END:VEVENT
BEGIN:VEVENT
DTSTART;TZID=UTC:20270828T080000
DTEND;TZID=UTC:20270828T120000
DTSTAMP:20260423T231813
CREATED:20260414T171018Z
LAST-MODIFIED:20260414T171018Z
UID:10001347-1819440000-1819454400@exploreapexnc.com
SUMMARY:Apex Farmers Market
DESCRIPTION:Head to Downtown Apex every Saturday morning and explore the outdoor vendor booths offering fresh produce\, meat and seafood\, baked goods\, prepared items\, and handmade crafts\, jewelry\, and art. The vendors change weekly\, but many of your favorites are there on repeat! Market hours are 8 am – 12 pm (April through October)\, and 9am – 12 pm (November though March). See you there!
URL:https://exploreapexnc.com/event-single-post-name/apex-farmers-market-5/2027-08-28/
ATTACH;FMTTYPE=image/png:https://exploreapexnc.com/wp-content/uploads/2026/04/Screenshot-2026-04-08-123450.png
END:VEVENT
BEGIN:VEVENT
DTSTART;TZID=UTC:20270904T080000
DTEND;TZID=UTC:20270904T120000
DTSTAMP:20260423T231813
CREATED:20260414T171018Z
LAST-MODIFIED:20260414T171018Z
UID:10001348-1820044800-1820059200@exploreapexnc.com
SUMMARY:Apex Farmers Market
DESCRIPTION:Head to Downtown Apex every Saturday morning and explore the outdoor vendor booths offering fresh produce\, meat and seafood\, baked goods\, prepared items\, and handmade crafts\, jewelry\, and art. The vendors change weekly\, but many of your favorites are there on repeat! Market hours are 8 am – 12 pm (April through October)\, and 9am – 12 pm (November though March). See you there!
URL:https://exploreapexnc.com/event-single-post-name/apex-farmers-market-5/2027-09-04/
ATTACH;FMTTYPE=image/png:https://exploreapexnc.com/wp-content/uploads/2026/04/Screenshot-2026-04-08-123450.png
END:VEVENT
BEGIN:VEVENT
DTSTART;TZID=UTC:20270911T080000
DTEND;TZID=UTC:20270911T120000
DTSTAMP:20260423T231813
CREATED:20260414T171018Z
LAST-MODIFIED:20260414T171018Z
UID:10001349-1820649600-1820664000@exploreapexnc.com
SUMMARY:Apex Farmers Market
DESCRIPTION:Head to Downtown Apex every Saturday morning and explore the outdoor vendor booths offering fresh produce\, meat and seafood\, baked goods\, prepared items\, and handmade crafts\, jewelry\, and art. The vendors change weekly\, but many of your favorites are there on repeat! Market hours are 8 am – 12 pm (April through October)\, and 9am – 12 pm (November though March). See you there!
URL:https://exploreapexnc.com/event-single-post-name/apex-farmers-market-5/2027-09-11/
ATTACH;FMTTYPE=image/png:https://exploreapexnc.com/wp-content/uploads/2026/04/Screenshot-2026-04-08-123450.png
END:VEVENT
BEGIN:VEVENT
DTSTART;TZID=UTC:20270918T080000
DTEND;TZID=UTC:20270918T120000
DTSTAMP:20260423T231813
CREATED:20260414T171018Z
LAST-MODIFIED:20260414T171018Z
UID:10001350-1821254400-1821268800@exploreapexnc.com
SUMMARY:Apex Farmers Market
DESCRIPTION:Head to Downtown Apex every Saturday morning and explore the outdoor vendor booths offering fresh produce\, meat and seafood\, baked goods\, prepared items\, and handmade crafts\, jewelry\, and art. The vendors change weekly\, but many of your favorites are there on repeat! Market hours are 8 am – 12 pm (April through October)\, and 9am – 12 pm (November though March). See you there!
URL:https://exploreapexnc.com/event-single-post-name/apex-farmers-market-5/2027-09-18/
ATTACH;FMTTYPE=image/png:https://exploreapexnc.com/wp-content/uploads/2026/04/Screenshot-2026-04-08-123450.png
END:VEVENT
BEGIN:VEVENT
DTSTART;TZID=UTC:20270925T080000
DTEND;TZID=UTC:20270925T120000
DTSTAMP:20260423T231813
CREATED:20260414T171018Z
LAST-MODIFIED:20260414T171018Z
UID:10001351-1821859200-1821873600@exploreapexnc.com
SUMMARY:Apex Farmers Market
DESCRIPTION:Head to Downtown Apex every Saturday morning and explore the outdoor vendor booths offering fresh produce\, meat and seafood\, baked goods\, prepared items\, and handmade crafts\, jewelry\, and art. The vendors change weekly\, but many of your favorites are there on repeat! Market hours are 8 am – 12 pm (April through October)\, and 9am – 12 pm (November though March). See you there!
URL:https://exploreapexnc.com/event-single-post-name/apex-farmers-market-5/2027-09-25/
ATTACH;FMTTYPE=image/png:https://exploreapexnc.com/wp-content/uploads/2026/04/Screenshot-2026-04-08-123450.png
END:VEVENT
BEGIN:VEVENT
DTSTART;TZID=UTC:20271002T080000
DTEND;TZID=UTC:20271002T120000
DTSTAMP:20260423T231813
CREATED:20260414T171018Z
LAST-MODIFIED:20260414T171018Z
UID:10001352-1822464000-1822478400@exploreapexnc.com
SUMMARY:Apex Farmers Market
DESCRIPTION:Head to Downtown Apex every Saturday morning and explore the outdoor vendor booths offering fresh produce\, meat and seafood\, baked goods\, prepared items\, and handmade crafts\, jewelry\, and art. The vendors change weekly\, but many of your favorites are there on repeat! Market hours are 8 am – 12 pm (April through October)\, and 9am – 12 pm (November though March). See you there!
URL:https://exploreapexnc.com/event-single-post-name/apex-farmers-market-5/2027-10-02/
ATTACH;FMTTYPE=image/png:https://exploreapexnc.com/wp-content/uploads/2026/04/Screenshot-2026-04-08-123450.png
END:VEVENT
BEGIN:VEVENT
DTSTART;TZID=UTC:20271009T080000
DTEND;TZID=UTC:20271009T120000
DTSTAMP:20260423T231813
CREATED:20260414T171018Z
LAST-MODIFIED:20260414T171018Z
UID:10001353-1823068800-1823083200@exploreapexnc.com
SUMMARY:Apex Farmers Market
DESCRIPTION:Head to Downtown Apex every Saturday morning and explore the outdoor vendor booths offering fresh produce\, meat and seafood\, baked goods\, prepared items\, and handmade crafts\, jewelry\, and art. The vendors change weekly\, but many of your favorites are there on repeat! Market hours are 8 am – 12 pm (April through October)\, and 9am – 12 pm (November though March). See you there!
URL:https://exploreapexnc.com/event-single-post-name/apex-farmers-market-5/2027-10-09/
ATTACH;FMTTYPE=image/png:https://exploreapexnc.com/wp-content/uploads/2026/04/Screenshot-2026-04-08-123450.png
END:VEVENT
BEGIN:VEVENT
DTSTART;TZID=UTC:20271016T080000
DTEND;TZID=UTC:20271016T120000
DTSTAMP:20260423T231813
CREATED:20260414T171018Z
LAST-MODIFIED:20260414T171018Z
UID:10001354-1823673600-1823688000@exploreapexnc.com
SUMMARY:Apex Farmers Market
DESCRIPTION:Head to Downtown Apex every Saturday morning and explore the outdoor vendor booths offering fresh produce\, meat and seafood\, baked goods\, prepared items\, and handmade crafts\, jewelry\, and art. The vendors change weekly\, but many of your favorites are there on repeat! Market hours are 8 am – 12 pm (April through October)\, and 9am – 12 pm (November though March). See you there!
URL:https://exploreapexnc.com/event-single-post-name/apex-farmers-market-5/2027-10-16/
ATTACH;FMTTYPE=image/png:https://exploreapexnc.com/wp-content/uploads/2026/04/Screenshot-2026-04-08-123450.png
END:VEVENT
BEGIN:VEVENT
DTSTART;TZID=UTC:20271023T080000
DTEND;TZID=UTC:20271023T120000
DTSTAMP:20260423T231813
CREATED:20260414T171018Z
LAST-MODIFIED:20260414T171018Z
UID:10001355-1824278400-1824292800@exploreapexnc.com
SUMMARY:Apex Farmers Market
DESCRIPTION:Head to Downtown Apex every Saturday morning and explore the outdoor vendor booths offering fresh produce\, meat and seafood\, baked goods\, prepared items\, and handmade crafts\, jewelry\, and art. The vendors change weekly\, but many of your favorites are there on repeat! Market hours are 8 am – 12 pm (April through October)\, and 9am – 12 pm (November though March). See you there!
URL:https://exploreapexnc.com/event-single-post-name/apex-farmers-market-5/2027-10-23/
ATTACH;FMTTYPE=image/png:https://exploreapexnc.com/wp-content/uploads/2026/04/Screenshot-2026-04-08-123450.png
END:VEVENT
BEGIN:VEVENT
DTSTART;TZID=UTC:20271030T080000
DTEND;TZID=UTC:20271030T120000
DTSTAMP:20260423T231813
CREATED:20260414T171018Z
LAST-MODIFIED:20260414T171018Z
UID:10001356-1824883200-1824897600@exploreapexnc.com
SUMMARY:Apex Farmers Market
DESCRIPTION:Head to Downtown Apex every Saturday morning and explore the outdoor vendor booths offering fresh produce\, meat and seafood\, baked goods\, prepared items\, and handmade crafts\, jewelry\, and art. The vendors change weekly\, but many of your favorites are there on repeat! Market hours are 8 am – 12 pm (April through October)\, and 9am – 12 pm (November though March). See you there!
URL:https://exploreapexnc.com/event-single-post-name/apex-farmers-market-5/2027-10-30/
ATTACH;FMTTYPE=image/png:https://exploreapexnc.com/wp-content/uploads/2026/04/Screenshot-2026-04-08-123450.png
END:VEVENT
BEGIN:VEVENT
DTSTART;TZID=UTC:20271106T080000
DTEND;TZID=UTC:20271106T120000
DTSTAMP:20260423T231813
CREATED:20260414T171018Z
LAST-MODIFIED:20260414T171018Z
UID:10001357-1825488000-1825502400@exploreapexnc.com
SUMMARY:Apex Farmers Market
DESCRIPTION:Head to Downtown Apex every Saturday morning and explore the outdoor vendor booths offering fresh produce\, meat and seafood\, baked goods\, prepared items\, and handmade crafts\, jewelry\, and art. The vendors change weekly\, but many of your favorites are there on repeat! Market hours are 8 am – 12 pm (April through October)\, and 9am – 12 pm (November though March). See you there!
URL:https://exploreapexnc.com/event-single-post-name/apex-farmers-market-5/2027-11-06/
ATTACH;FMTTYPE=image/png:https://exploreapexnc.com/wp-content/uploads/2026/04/Screenshot-2026-04-08-123450.png
END:VEVENT
BEGIN:VEVENT
DTSTART;TZID=UTC:20271113T080000
DTEND;TZID=UTC:20271113T120000
DTSTAMP:20260423T231813
CREATED:20260414T171018Z
LAST-MODIFIED:20260414T171018Z
UID:10001358-1826092800-1826107200@exploreapexnc.com
SUMMARY:Apex Farmers Market
DESCRIPTION:Head to Downtown Apex every Saturday morning and explore the outdoor vendor booths offering fresh produce\, meat and seafood\, baked goods\, prepared items\, and handmade crafts\, jewelry\, and art. The vendors change weekly\, but many of your favorites are there on repeat! Market hours are 8 am – 12 pm (April through October)\, and 9am – 12 pm (November though March). See you there!
URL:https://exploreapexnc.com/event-single-post-name/apex-farmers-market-5/2027-11-13/
ATTACH;FMTTYPE=image/png:https://exploreapexnc.com/wp-content/uploads/2026/04/Screenshot-2026-04-08-123450.png
END:VEVENT
BEGIN:VEVENT
DTSTART;TZID=UTC:20271120T080000
DTEND;TZID=UTC:20271120T120000
DTSTAMP:20260423T231813
CREATED:20260414T171018Z
LAST-MODIFIED:20260414T171018Z
UID:10001359-1826697600-1826712000@exploreapexnc.com
SUMMARY:Apex Farmers Market
DESCRIPTION:Head to Downtown Apex every Saturday morning and explore the outdoor vendor booths offering fresh produce\, meat and seafood\, baked goods\, prepared items\, and handmade crafts\, jewelry\, and art. The vendors change weekly\, but many of your favorites are there on repeat! Market hours are 8 am – 12 pm (April through October)\, and 9am – 12 pm (November though March). See you there!
URL:https://exploreapexnc.com/event-single-post-name/apex-farmers-market-5/2027-11-20/
ATTACH;FMTTYPE=image/png:https://exploreapexnc.com/wp-content/uploads/2026/04/Screenshot-2026-04-08-123450.png
END:VEVENT
BEGIN:VEVENT
DTSTART;TZID=UTC:20271127T080000
DTEND;TZID=UTC:20271127T120000
DTSTAMP:20260423T231813
CREATED:20260414T171018Z
LAST-MODIFIED:20260414T171018Z
UID:10001360-1827302400-1827316800@exploreapexnc.com
SUMMARY:Apex Farmers Market
DESCRIPTION:Head to Downtown Apex every Saturday morning and explore the outdoor vendor booths offering fresh produce\, meat and seafood\, baked goods\, prepared items\, and handmade crafts\, jewelry\, and art. The vendors change weekly\, but many of your favorites are there on repeat! Market hours are 8 am – 12 pm (April through October)\, and 9am – 12 pm (November though March). See you there!
URL:https://exploreapexnc.com/event-single-post-name/apex-farmers-market-5/2027-11-27/
ATTACH;FMTTYPE=image/png:https://exploreapexnc.com/wp-content/uploads/2026/04/Screenshot-2026-04-08-123450.png
END:VEVENT
BEGIN:VEVENT
DTSTART;TZID=UTC:20271204T080000
DTEND;TZID=UTC:20271204T120000
DTSTAMP:20260423T231813
CREATED:20260414T171018Z
LAST-MODIFIED:20260414T171018Z
UID:10001361-1827907200-1827921600@exploreapexnc.com
SUMMARY:Apex Farmers Market
DESCRIPTION:Head to Downtown Apex every Saturday morning and explore the outdoor vendor booths offering fresh produce\, meat and seafood\, baked goods\, prepared items\, and handmade crafts\, jewelry\, and art. The vendors change weekly\, but many of your favorites are there on repeat! Market hours are 8 am – 12 pm (April through October)\, and 9am – 12 pm (November though March). See you there!
URL:https://exploreapexnc.com/event-single-post-name/apex-farmers-market-5/2027-12-04/
ATTACH;FMTTYPE=image/png:https://exploreapexnc.com/wp-content/uploads/2026/04/Screenshot-2026-04-08-123450.png
END:VEVENT
BEGIN:VEVENT
DTSTART;TZID=UTC:20271211T080000
DTEND;TZID=UTC:20271211T120000
DTSTAMP:20260423T231813
CREATED:20260414T171018Z
LAST-MODIFIED:20260414T171018Z
UID:10001362-1828512000-1828526400@exploreapexnc.com
SUMMARY:Apex Farmers Market
DESCRIPTION:Head to Downtown Apex every Saturday morning and explore the outdoor vendor booths offering fresh produce\, meat and seafood\, baked goods\, prepared items\, and handmade crafts\, jewelry\, and art. The vendors change weekly\, but many of your favorites are there on repeat! Market hours are 8 am – 12 pm (April through October)\, and 9am – 12 pm (November though March). See you there!
URL:https://exploreapexnc.com/event-single-post-name/apex-farmers-market-5/2027-12-11/
ATTACH;FMTTYPE=image/png:https://exploreapexnc.com/wp-content/uploads/2026/04/Screenshot-2026-04-08-123450.png
END:VEVENT
BEGIN:VEVENT
DTSTART;TZID=UTC:20271218T080000
DTEND;TZID=UTC:20271218T120000
DTSTAMP:20260423T231813
CREATED:20260414T171018Z
LAST-MODIFIED:20260414T171018Z
UID:10001363-1829116800-1829131200@exploreapexnc.com
SUMMARY:Apex Farmers Market
DESCRIPTION:Head to Downtown Apex every Saturday morning and explore the outdoor vendor booths offering fresh produce\, meat and seafood\, baked goods\, prepared items\, and handmade crafts\, jewelry\, and art. The vendors change weekly\, but many of your favorites are there on repeat! Market hours are 8 am – 12 pm (April through October)\, and 9am – 12 pm (November though March). See you there!
URL:https://exploreapexnc.com/event-single-post-name/apex-farmers-market-5/2027-12-18/
ATTACH;FMTTYPE=image/png:https://exploreapexnc.com/wp-content/uploads/2026/04/Screenshot-2026-04-08-123450.png
END:VEVENT
BEGIN:VEVENT
DTSTART;TZID=UTC:20271225T080000
DTEND;TZID=UTC:20271225T120000
DTSTAMP:20260423T231813
CREATED:20260414T171018Z
LAST-MODIFIED:20260414T171018Z
UID:10001364-1829721600-1829736000@exploreapexnc.com
SUMMARY:Apex Farmers Market
DESCRIPTION:Head to Downtown Apex every Saturday morning and explore the outdoor vendor booths offering fresh produce\, meat and seafood\, baked goods\, prepared items\, and handmade crafts\, jewelry\, and art. The vendors change weekly\, but many of your favorites are there on repeat! Market hours are 8 am – 12 pm (April through October)\, and 9am – 12 pm (November though March). See you there!
URL:https://exploreapexnc.com/event-single-post-name/apex-farmers-market-5/2027-12-25/
ATTACH;FMTTYPE=image/png:https://exploreapexnc.com/wp-content/uploads/2026/04/Screenshot-2026-04-08-123450.png
END:VEVENT
BEGIN:VEVENT
DTSTART;TZID=UTC:20280101T080000
DTEND;TZID=UTC:20280101T120000
DTSTAMP:20260423T231813
CREATED:20260414T171018Z
LAST-MODIFIED:20260414T171018Z
UID:10001365-1830326400-1830340800@exploreapexnc.com
SUMMARY:Apex Farmers Market
DESCRIPTION:Head to Downtown Apex every Saturday morning and explore the outdoor vendor booths offering fresh produce\, meat and seafood\, baked goods\, prepared items\, and handmade crafts\, jewelry\, and art. The vendors change weekly\, but many of your favorites are there on repeat! Market hours are 8 am – 12 pm (April through October)\, and 9am – 12 pm (November though March). See you there!
URL:https://exploreapexnc.com/event-single-post-name/apex-farmers-market-5/2028-01-01/
ATTACH;FMTTYPE=image/png:https://exploreapexnc.com/wp-content/uploads/2026/04/Screenshot-2026-04-08-123450.png
END:VEVENT
BEGIN:VEVENT
DTSTART;TZID=UTC:20280108T080000
DTEND;TZID=UTC:20280108T120000
DTSTAMP:20260423T231813
CREATED:20260414T171018Z
LAST-MODIFIED:20260414T171018Z
UID:10001366-1830931200-1830945600@exploreapexnc.com
SUMMARY:Apex Farmers Market
DESCRIPTION:Head to Downtown Apex every Saturday morning and explore the outdoor vendor booths offering fresh produce\, meat and seafood\, baked goods\, prepared items\, and handmade crafts\, jewelry\, and art. The vendors change weekly\, but many of your favorites are there on repeat! Market hours are 8 am – 12 pm (April through October)\, and 9am – 12 pm (November though March). See you there!
URL:https://exploreapexnc.com/event-single-post-name/apex-farmers-market-5/2028-01-08/
ATTACH;FMTTYPE=image/png:https://exploreapexnc.com/wp-content/uploads/2026/04/Screenshot-2026-04-08-123450.png
END:VEVENT
END:VCALENDAR