BEGIN:VCALENDAR
VERSION:2.0
PRODID:-//Explore Apex - ECPv6.15.20//NONSGML v1.0//EN
CALSCALE:GREGORIAN
METHOD:PUBLISH
X-WR-CALNAME:Explore Apex
X-ORIGINAL-URL:https://exploreapexnc.com
X-WR-CALDESC:Events for Explore Apex
REFRESH-INTERVAL;VALUE=DURATION:PT1H
X-Robots-Tag:noindex
X-PUBLISHED-TTL:PT1H
BEGIN:VTIMEZONE
TZID:UTC
BEGIN:STANDARD
TZOFFSETFROM:+0000
TZOFFSETTO:+0000
TZNAME:UTC
DTSTART:20250101T000000
END:STANDARD
END:VTIMEZONE
BEGIN:VEVENT
DTSTART;TZID=UTC:20260311T180000
DTEND;TZID=UTC:20260311T193000
DTSTAMP:20260423T211900
CREATED:20260204T195450Z
LAST-MODIFIED:20260204T195450Z
UID:10000965-1773252000-1773257400@exploreapexnc.com
SUMMARY:March Craft Coven Craft Club: Fairy Inspired Propagation Station
DESCRIPTION:🧚‍♀️ Craft Coven — March Craft Club 🧚‍♀️\nFairycore • Botanical • Cozy Creative Magic \nJoin us for Craft Coven\, meeting every second Wednesday of the month\, where we gather to slow down\, create with our hands\, and make something a little bit magical. \n✨ March Craft:\nThis month\, we’ll be creating a fairycore-inspired propagation station—a dreamy botanical piece made using a tabletop frame\, moss\, a propagation tube\, and curated botanicals. The result is a living\, storybook-style display perfect for propagating plant cuttings while adding a touch of woodland magic to your space. \nThis project is beginner-friendly and thoughtfully guided\, with plenty of room to make it your own. No green thumb required—just a love for cozy\, nature-inspired creativity. \n🔮 Membership Options Available:\n-3-Month Subscription\n-6-Month Subscription \nMemberships reserve your spot each month and let you build a growing collection of handmade\, fairy-touched creations. \n🚗 Parking: Available behind the store in our private lot \nBring your creative spirit\, settle in with your coven\, and make something beautiful under March’s creative energy. 🌙🌿✨
URL:https://exploreapexnc.com/event-single-post-name/march-craft-coven-craft-club-fairy-inspired-propagation-station/
LOCATION:Bear Hands\, 305 South Salem Street\, Apex\, NC\, 27502-1826\, United States
ATTACH;FMTTYPE=image/png:https://exploreapexnc.com/wp-content/uploads/2026/02/craft-coven-2026-Instagram-Posts-1.png
ORGANIZER;CN="Bear Hands":MAILTO:bearhandsgifts@gmail.com
END:VEVENT
END:VCALENDAR