BEGIN:VCALENDAR
VERSION:2.0
PRODID:-//Explore Apex - ECPv6.15.20//NONSGML v1.0//EN
CALSCALE:GREGORIAN
METHOD:PUBLISH
X-ORIGINAL-URL:https://exploreapexnc.com
X-WR-CALDESC:Events for Explore Apex
REFRESH-INTERVAL;VALUE=DURATION:PT1H
X-Robots-Tag:noindex
X-PUBLISHED-TTL:PT1H
BEGIN:VTIMEZONE
TZID:UTC
BEGIN:STANDARD
TZOFFSETFROM:+0000
TZOFFSETTO:+0000
TZNAME:UTC
DTSTART:20250101T000000
END:STANDARD
END:VTIMEZONE
BEGIN:VEVENT
DTSTART;TZID=UTC:20260212T180000
DTEND;TZID=UTC:20260212T193000
DTSTAMP:20260424T001014
CREATED:20260202T201927Z
LAST-MODIFIED:20260202T201927Z
UID:10000954-1770919200-1770924600@exploreapexnc.com
SUMMARY:Craft Together: Full Size Terrarium Workshop
DESCRIPTION:🌿 Craft Together: Full-Size Terrarium Workshop 🌿\nA Hands-On Creative Date Night (or Galentine’s Day!) \nCreate something beautiful—together. Our Craft Together: Full-Size Terrarium Workshop is designed for pairs who want a cozy\, hands-on experience\, whether you’re celebrating Valentine’s Day\, Galentine’s Day\, or just a sweet creative hang with someone you love. \nYou and your chosen crafting companion will work side-by-side to design one full-size terrarium\, layering soil\, moss\, stones\, and greenery to create a living piece of art you’ll take home and enjoy long after the workshop ends. This experience is collaborative\, relaxed\, and beginner-friendly—no green thumb required. \n✨ Each ticket includes TWO seats:\n-One for you\n-One for your plus-one (partner\, friend\, bestie\, or favorite human) \nWhat’s Included:\n-All materials to create one full-size terrarium\n-Step-by-step guidance from our team\n-A cozy\, welcoming creative space perfect for connection \n💖 Perfect for date night\, Galentine’s plans\, or a thoughtful shared experience gift. \n🚗 Parking: Available behind the store in our private lot\n💲 Pricing: Listed price on our scheduling website includes sales tax \nGrab your person\, get your hands a little dirty\, and make something magical—together. 🌿✨
URL:https://exploreapexnc.com/event-single-post-name/craft-together-full-size-terrarium-workshop/
LOCATION:Bear Hands\, 305 South Salem Street\, Apex\, NC\, 27502-1826\, United States
ATTACH;FMTTYPE=image/png:https://exploreapexnc.com/wp-content/uploads/2026/02/5.png
ORGANIZER;CN="BEAR HANDS":MAILTO:bearhandsgifts@gmail.com
END:VEVENT
END:VCALENDAR