BEGIN:VCALENDAR
VERSION:2.0
PRODID:-//Explore Apex - ECPv6.15.20//NONSGML v1.0//EN
CALSCALE:GREGORIAN
METHOD:PUBLISH
X-ORIGINAL-URL:https://exploreapexnc.com
X-WR-CALDESC:Events for Explore Apex
REFRESH-INTERVAL;VALUE=DURATION:PT1H
X-Robots-Tag:noindex
X-PUBLISHED-TTL:PT1H
BEGIN:VTIMEZONE
TZID:UTC
BEGIN:STANDARD
TZOFFSETFROM:+0000
TZOFFSETTO:+0000
TZNAME:UTC
DTSTART:20250101T000000
END:STANDARD
END:VTIMEZONE
BEGIN:VEVENT
DTSTART;TZID=UTC:20260214T130000
DTEND;TZID=UTC:20260214T143000
DTSTAMP:20260423T223709
CREATED:20260204T194637Z
LAST-MODIFIED:20260204T194637Z
UID:10000956-1771074000-1771079400@exploreapexnc.com
SUMMARY:Craft Together: Paint Each Other Workshop
DESCRIPTION:🎨 Craft Together: Paint Each Other Workshop 🎨\nPlayful • Creative • Perfectly Imperfect \nCreate side-by-side in this lighthearted and joy-filled Craft Together workshop\, where each guest paints a portrait of the person they came with. Think less “serious art class” and more laughter\, connection\, and celebrating each other through creativity. \nEach ticket includes space for two people\, and each person will create their own painting—so you’ll leave with two wonderfully imperfect\, totally one-of-a-kind portraits. No painting experience is required (truly). This workshop is about fun\, expression\, and enjoying the process together. \nPerfect for couples\, best friends\, siblings\, or anyone who wants a creative date that doesn’t take itself too seriously. \nWhat’s Included:\n✨ All painting materials\n✨ Guided prompts and encouragement\n✨ Two seats per ticket\n✨ Sales tax included in the ticket price \n🚗 Parking: Available behind the store in our private lot \nBring your favorite person\, embrace the chaos\, and paint each other exactly as you see one another—art skills optional\, memories guaranteed. 💕🎨
URL:https://exploreapexnc.com/event-single-post-name/craft-together-paint-each-other-workshop/
LOCATION:Bear Hands\, 305 South Salem Street\, Apex\, NC\, 27502-1826\, United States
ATTACH;FMTTYPE=image/png:https://exploreapexnc.com/wp-content/uploads/2026/02/6.png
ORGANIZER;CN="Bear Hands":MAILTO:bearhandsgifts@gmail.com
END:VEVENT
END:VCALENDAR