BEGIN:VCALENDAR
VERSION:2.0
PRODID:-//Explore Apex - ECPv6.15.20//NONSGML v1.0//EN
CALSCALE:GREGORIAN
METHOD:PUBLISH
X-WR-CALNAME:Explore Apex
X-ORIGINAL-URL:https://exploreapexnc.com
X-WR-CALDESC:Events for Explore Apex
REFRESH-INTERVAL;VALUE=DURATION:PT1H
X-Robots-Tag:noindex
X-PUBLISHED-TTL:PT1H
BEGIN:VTIMEZONE
TZID:UTC
BEGIN:STANDARD
TZOFFSETFROM:+0000
TZOFFSETTO:+0000
TZNAME:UTC
DTSTART:20250101T000000
END:STANDARD
END:VTIMEZONE
BEGIN:VEVENT
DTSTART;TZID=UTC:20260227T180000
DTEND;TZID=UTC:20260227T193000
DTSTAMP:20260423T212146
CREATED:20260204T194800Z
LAST-MODIFIED:20260204T194800Z
UID:10000960-1772215200-1772220600@exploreapexnc.com
SUMMARY:Jane Austen Inspired Book Binding Workshop
DESCRIPTION:📖 Jane Austen–Inspired Book Binding Workshop 📖\nRegency Elegance • Literary • Two-Day Workshop \nRebind a beloved classic and step into the quiet romance of the Regency era in our Jane Austen–Inspired Book Binding Workshop. This two-day\, hands-on experience invites guests to transform a timeless novel into a beautifully bound keepsake worthy of any bookshelf. \nParticipants will choose one Jane Austen classic to rebind:\n✨ Pride and Prejudice\n✨ Sense and Sensibility\n✨ Emma \nDuring the workshop\, you’ll learn the fundamentals of book binding while creating a Regency-inspired cover and finished book that feels both personal and timeless. The second session focuses on finishing details and final assembly\, bringing your book together into a polished heirloom-style piece. \nNo prior experience is required—this workshop is beginner-friendly and thoughtfully guided from start to finish. \n🗓️ Second Session Note:\nIf you’re unable to attend the scheduled second class\, please reach out and we’ll happily coordinate a time for you to finish your book that works for both of us. \nWhat’s Included:\n✨ One Jane Austen novel\n✨ All bookbinding materials and tools\n✨ Guided instruction across two sessions\n✨ Sales tax included in the listed price \n🚗 Parking: Available behind the store in our private lot \nPerfect for book lovers\, Austen devotees\, and anyone who believes there is no charm equal to tenderness of heart—and a beautifully bound book. 💕📚
URL:https://exploreapexnc.com/event-single-post-name/jane-austen-inspired-book-binding-workshop/2026-02-27/
LOCATION:Bear Hands\, 305 South Salem Street\, Apex\, NC\, 27502-1826\, United States
ATTACH;FMTTYPE=image/png:https://exploreapexnc.com/wp-content/uploads/2026/02/6-1.png
ORGANIZER;CN="Bear Hands":MAILTO:bearhandsgifts@gmail.com
END:VEVENT
BEGIN:VEVENT
DTSTART;TZID=UTC:20260226T180000
DTEND;TZID=UTC:20260226T200000
DTSTAMP:20260423T212146
CREATED:20260204T194800Z
LAST-MODIFIED:20260204T194800Z
UID:10000959-1772128800-1772136000@exploreapexnc.com
SUMMARY:Jane Austen Inspired Book Binding Workshop
DESCRIPTION:📖 Jane Austen–Inspired Book Binding Workshop 📖\nRegency Elegance • Literary • Two-Day Workshop \nRebind a beloved classic and step into the quiet romance of the Regency era in our Jane Austen–Inspired Book Binding Workshop. This two-day\, hands-on experience invites guests to transform a timeless novel into a beautifully bound keepsake worthy of any bookshelf. \nParticipants will choose one Jane Austen classic to rebind:\n✨ Pride and Prejudice\n✨ Sense and Sensibility\n✨ Emma \nDuring the workshop\, you’ll learn the fundamentals of book binding while creating a Regency-inspired cover and finished book that feels both personal and timeless. The second session focuses on finishing details and final assembly\, bringing your book together into a polished heirloom-style piece. \nNo prior experience is required—this workshop is beginner-friendly and thoughtfully guided from start to finish. \n🗓️ Second Session Note:\nIf you’re unable to attend the scheduled second class\, please reach out and we’ll happily coordinate a time for you to finish your book that works for both of us. \nWhat’s Included:\n✨ One Jane Austen novel\n✨ All bookbinding materials and tools\n✨ Guided instruction across two sessions\n✨ Sales tax included in the listed price \n🚗 Parking: Available behind the store in our private lot \nPerfect for book lovers\, Austen devotees\, and anyone who believes there is no charm equal to tenderness of heart—and a beautifully bound book. 💕📚
URL:https://exploreapexnc.com/event-single-post-name/jane-austen-inspired-book-binding-workshop/2026-02-26/
LOCATION:Bear Hands\, 305 South Salem Street\, Apex\, NC\, 27502-1826\, United States
ATTACH;FMTTYPE=image/png:https://exploreapexnc.com/wp-content/uploads/2026/02/6-1.png
ORGANIZER;CN="Bear Hands":MAILTO:bearhandsgifts@gmail.com
END:VEVENT
END:VCALENDAR