BEGIN:VCALENDAR
VERSION:2.0
PRODID:-//Explore Apex - ECPv6.15.20//NONSGML v1.0//EN
CALSCALE:GREGORIAN
METHOD:PUBLISH
X-ORIGINAL-URL:https://exploreapexnc.com
X-WR-CALDESC:Events for Explore Apex
REFRESH-INTERVAL;VALUE=DURATION:PT1H
X-Robots-Tag:noindex
X-PUBLISHED-TTL:PT1H
BEGIN:VTIMEZONE
TZID:UTC
BEGIN:STANDARD
TZOFFSETFROM:+0000
TZOFFSETTO:+0000
TZNAME:UTC
DTSTART:20250101T000000
END:STANDARD
END:VTIMEZONE
BEGIN:VEVENT
DTSTART;TZID=UTC:20260304T180000
DTEND;TZID=UTC:20260304T190000
DTSTAMP:20260423T223708
CREATED:20260204T195414Z
LAST-MODIFIED:20260204T195414Z
UID:10000963-1772647200-1772650800@exploreapexnc.com
SUMMARY:March Full Moon Book & Craft Club: The Undertaking of Hart & Mercy
DESCRIPTION:🌕 March Full Moon Book & Craft Club 🌕\nCozy Fantasy • Romance • Creative Community \nGather with us under the March full moon for another enchanting evening of stories\, crafting\, and connection at our Full Moon Book & Craft Club. Each month\, we pair a magical read with a themed\, hands-on craft inspired by the story—and March’s pick is tender\, strange\, and unforgettable. \n📖 March Book of the Month:\nThe Undertaking of Hart & Mercy \nExpect heartfelt discussion\, swoony moments\, and a welcoming space to connect with fellow readers who love a little magic mixed with their romance. As always\, all craft materials are provided\, and no prior experience is required—just come ready to create and chat. \n✨ Membership Options Available:\n-3-Month Subscription\n-6-Month Subscription\n-12-Month Subscription \nSubscriptions reserve your spot each month and include both the book discussion and the themed craft experience. \n🚗 Parking: Available behind the store in our private lot \nWhether you’re joining us for this moon or committing to a full year of magical reads and cozy crafts\, we’d love to welcome you into the circle. 🌙✨
URL:https://exploreapexnc.com/event-single-post-name/march-full-moon-book-craft-club-the-undertaking-of-hart-mercy/
LOCATION:Bear Hands\, 305 South Salem Street\, Apex\, NC\, 27502-1826\, United States
ATTACH;FMTTYPE=image/png:https://exploreapexnc.com/wp-content/uploads/2026/02/2026-Full-Moon-Book-Craft-Club-Instagram-Post-1080-x-1080-px-1.png
ORGANIZER;CN="Bear Hands":MAILTO:bearhandsgifts@gmail.com
END:VEVENT
END:VCALENDAR