BEGIN:VCALENDAR
VERSION:2.0
PRODID:-//Explore Apex - ECPv6.15.20//NONSGML v1.0//EN
CALSCALE:GREGORIAN
METHOD:PUBLISH
X-WR-CALNAME:Explore Apex
X-ORIGINAL-URL:https://exploreapexnc.com
X-WR-CALDESC:Events for Explore Apex
REFRESH-INTERVAL;VALUE=DURATION:PT1H
X-Robots-Tag:noindex
X-PUBLISHED-TTL:PT1H
BEGIN:VTIMEZONE
TZID:UTC
BEGIN:STANDARD
TZOFFSETFROM:+0000
TZOFFSETTO:+0000
TZNAME:UTC
DTSTART:20250101T000000
END:STANDARD
END:VTIMEZONE
BEGIN:VEVENT
DTSTART;TZID=UTC:20260207T130000
DTEND;TZID=UTC:20260207T143000
DTSTAMP:20260423T223630
CREATED:20260202T200444Z
LAST-MODIFIED:20260202T200444Z
UID:10000953-1770469200-1770474600@exploreapexnc.com
SUMMARY:I Burn For You: Candle Making & Paper Wisteria Workshop
DESCRIPTION:✨ “I Burn for You” Candle Making & Paper Wisteria Workshop ✨\nBridgerton-Inspired | Romantic | Oh-So-Regency \nStep into a world of soft candlelight\, florals\, and whispered confessions at our “I Burn for You” workshop—an elegant\, Bridgerton-inspired evening of creativity and indulgence.\nGuests will begin by crafting their own 8oz custom candle\, choosing from our curated selection of dreamy fragrance blends and adorning the top with dried flowers\, crystal chips\, and other magical embellishments. While your candle cools\, you’ll create a hanging paper wisteria in full bloom\, using cardstock and wire to design a romantic floral piece worthy of any Regency ball.\nThis workshop is perfect for romantics\, craft lovers\, bookish souls\, and anyone who still hasn’t recovered from that scene. 💌 \n✨ Both sessions sold out last year\, so we highly recommend reserving your spot early.\nWorkshop Dates & Times:\n📅 Wednesday\, 2/5 at 6:00 PM\n📅 Friday\, 2/7 at 1:00 PM \nWhat’s Included:\n-One 8oz custom candle (you choose the scent + decorations)\n-All candle-making materials\n-All supplies to create one hanging paper wisteria\n-Guided instruction in a cozy\, romantic setting \n🚗 Parking: Available behind the store in our private lot\n💲 Pricing: Listed price on our scheduling website includes sales tax\nDress up if you’d like\, bring a friend (or your dearest companion)\, and prepare to burn… creatively. 💐🕯️
URL:https://exploreapexnc.com/event-single-post-name/i-burn-for-you-candle-making-paper-wisteria-workshop/2026-02-07/
LOCATION:Bear Hands\, 305 South Salem Street\, Apex\, NC\, 27502-1826\, United States
ATTACH;FMTTYPE=image/png:https://exploreapexnc.com/wp-content/uploads/2026/02/Feb-26-workshop-IG-posts.png
ORGANIZER;CN="Bear Hands":MAILTO:bearhandsgifts@gmail.com
END:VEVENT
BEGIN:VEVENT
DTSTART;TZID=UTC:20260205T180000
DTEND;TZID=UTC:20260205T193000
DTSTAMP:20260423T223630
CREATED:20260202T201713Z
LAST-MODIFIED:20260202T201736Z
UID:10000952-1770314400-1770319800@exploreapexnc.com
SUMMARY:I Burn For You: Candle Making & Paper Wisteria Workshop
DESCRIPTION:✨ “I Burn for You” Candle Making & Paper Wisteria Workshop ✨\nBridgerton-Inspired | Romantic | Oh-So-Regency \nStep into a world of soft candlelight\, florals\, and whispered confessions at our “I Burn for You” workshop—an elegant\, Bridgerton-inspired evening of creativity and indulgence.\nGuests will begin by crafting their own 8oz custom candle\, choosing from our curated selection of dreamy fragrance blends and adorning the top with dried flowers\, crystal chips\, and other magical embellishments. While your candle cools\, you’ll create a hanging paper wisteria in full bloom\, using cardstock and wire to design a romantic floral piece worthy of any Regency ball.\nThis workshop is perfect for romantics\, craft lovers\, bookish souls\, and anyone who still hasn’t recovered from that scene. 💌 \n✨ Both sessions sold out last year\, so we highly recommend reserving your spot early.\nWorkshop Dates & Times:\n📅 Thursday\, 2/5 at 6:00 PM\n📅 Saturday\, 2/7 at 1:00 PM \nWhat’s Included:\n-One 8oz custom candle (you choose the scent + decorations)\n-All candle-making materials\n-All supplies to create one hanging paper wisteria\n-Guided instruction in a cozy\, romantic setting \n🚗 Parking: Available behind the store in our private lot\n💲 Pricing: Listed price on our scheduling website includes sales tax\nDress up if you’d like\, bring a friend (or your dearest companion)\, and prepare to burn… creatively. 💐🕯️
URL:https://exploreapexnc.com/event-single-post-name/i-burn-for-you-candle-making-paper-wisteria-workshop-2/
LOCATION:Bear Hands\, 305 South Salem Street\, Apex\, NC\, 27502-1826\, United States
ATTACH;FMTTYPE=image/png:https://exploreapexnc.com/wp-content/uploads/2026/02/Feb-26-workshop-IG-posts.png
ORGANIZER;CN="Bear Hands":MAILTO:bearhandsgifts@gmail.com
END:VEVENT
END:VCALENDAR