BEGIN:VCALENDAR
VERSION:2.0
PRODID:-//Explore Apex - ECPv6.15.20//NONSGML v1.0//EN
CALSCALE:GREGORIAN
METHOD:PUBLISH
X-WR-CALNAME:Explore Apex
X-ORIGINAL-URL:https://exploreapexnc.com
X-WR-CALDESC:Events for Explore Apex
REFRESH-INTERVAL;VALUE=DURATION:PT1H
X-Robots-Tag:noindex
X-PUBLISHED-TTL:PT1H
BEGIN:VTIMEZONE
TZID:UTC
BEGIN:STANDARD
TZOFFSETFROM:+0000
TZOFFSETTO:+0000
TZNAME:UTC
DTSTART:20240101T000000
END:STANDARD
END:VTIMEZONE
BEGIN:VEVENT
DTSTART;TZID=UTC:20251024T130000
DTEND;TZID=UTC:20251024T170000
DTSTAMP:20260424T001126
CREATED:20251008T201132Z
LAST-MODIFIED:20251008T201132Z
UID:10000525-1761310800-1761325200@exploreapexnc.com
SUMMARY:Fill Your Cup 2nd Annual Women's Wellness Event
DESCRIPTION:Join Peak Pelvic Health and MissionFIT Rehab & Performance for our 2nd Annual Women’s Wellness event to learn about the services and resources available to you in the community to help you “Fill Your Cup.” Cost is $35 and will include 1 free drink/flight ticket\, hors d’oeuvres\, learning from keynote speakers and networking with woman owned businesses and local health and wellness businesses. You will also have an opportunity to hear speakers on topics that include menopause\, nutrition\, sleep hygiene\, metabolic health\, financial fitness\, and so much more. \nUse the following link for registration:\nhttps://www.ticketleap.events/…/2nd-annual-fill-your… \nWe are SO excited to have a powerhouse group of women coming together again! You can check the announcements page for a list of participating keynote speakers\, schedule of events/itinerary and updates as we get closer to the event. \n**Note\, rain date is scheduled for the following Friday\, November 7th.**
URL:https://exploreapexnc.com/event-single-post-name/fill-your-cup-2nd-annual-womens-wellness-event/
LOCATION:Cloer Family Vineyards\, 8624 Castleberry Road\, Apex\, N\, 27523\, United States
ATTACH;FMTTYPE=image/png:https://exploreapexnc.com/wp-content/uploads/2025/10/2nd-annual-FYCF-2-1.png
ORGANIZER;CN="Peak Pelivc Health Physical Therapy":MAILTO:info@peakpelvichealth.com
END:VEVENT
END:VCALENDAR