BEGIN:VCALENDAR
VERSION:2.0
PRODID:-//Explore Apex - ECPv6.15.20//NONSGML v1.0//EN
CALSCALE:GREGORIAN
METHOD:PUBLISH
X-WR-CALNAME:Explore Apex
X-ORIGINAL-URL:https://exploreapexnc.com
X-WR-CALDESC:Events for Explore Apex
REFRESH-INTERVAL;VALUE=DURATION:PT1H
X-Robots-Tag:noindex
X-PUBLISHED-TTL:PT1H
BEGIN:VTIMEZONE
TZID:UTC
BEGIN:STANDARD
TZOFFSETFROM:+0000
TZOFFSETTO:+0000
TZNAME:UTC
DTSTART:20250101T000000
END:STANDARD
END:VTIMEZONE
BEGIN:VEVENT
DTSTART;TZID=UTC:20260425T120000
DTEND;TZID=UTC:20260425T160000
DTSTAMP:20260423T182730
CREATED:20260311T191932Z
LAST-MODIFIED:20260311T191932Z
UID:10001126-1777118400-1777132800@exploreapexnc.com
SUMMARY:EarthFest
DESCRIPTION:Apex EarthFest is an engaging\, interactive festival for our local community\, offering ways to learn about\, participate in\, and celebrate our planet. \nThis year’s celebration is centered around Sustainable Fashion and features: \nLive and roving performances featuring Holler Choir Band \nSustainable Fashion Tips & More:\nFashion show with clothing materials from Dorcas Ministries Thrift Store.\nClothing swap with 416 Clothing Trade where you can bring your gently used\, clean clothing to swap with your neighbors and find a new piece for your own closet! No money required to participate. Any clothing left over will be donated to local non-profits.\nRefabricate documentary showing\nRecycled accessory bar by Note in the Pocket features opportunities for attendees to create accessories like bracelets using recycled materials \nPollinator and Plant Installations:\nArbor Day planting with Town of Apex staff and elected officials\nPollinator garden planting in front of the John M. Brown Community Center \nFood\, Recycling\, and Composting Offerings:\nLow waste food truck rodeo offering BPI-certified product containers including Arepa Culture\, Buoy Bowls\, and Peak City Cocktails (offering mocktails)\nCompost and recycling demonstrations by community partners \nVendors Marketplace showcasing Apex-based and regional information and resources \nTown Information Booths showcasing multiple departments from the Town of Apex – stop by for conversation and fun freebies!
URL:https://exploreapexnc.com/event-single-post-name/earthfest-2/
LOCATION:Apex Town Campus\, 73 Hunter Street\, Apex\, NC\, 27502\, United States
ATTACH;FMTTYPE=image/png:https://exploreapexnc.com/wp-content/uploads/2026/03/EarthFest-Poster.png
END:VEVENT
BEGIN:VEVENT
DTSTART;TZID=UTC:20260502T090000
DTEND;TZID=UTC:20260502T160000
DTSTAMP:20260423T182730
CREATED:20260311T190938Z
LAST-MODIFIED:20260311T190938Z
UID:10001098-1777712400-1777737600@exploreapexnc.com
SUMMARY:PeakFest
DESCRIPTION:Saturday\, May 2\, 2026\nNew Location for 2026! Town Hall Campus\n9 am – 4 pm \nFor more information on vendors\, entertainment\, sponsorship opportunities and volunteering\, visit the PeakFest website. \nCelebrate the Peak of Good Living at PeakFest\, each year on the first Saturday in May. For 2026\, PeakFest will be relocated to Town Hall Campus during the Salem Streetscape construction project. This annual event features: \nOver 100 vendors with a wide variety of arts and crafts\nFestival food and food trucks\nLive music and entertainment\nKids Zone with inflatables\nRoving street performers\nKnow Before You Go:\nView the downtown parking map for walkable parking locations.\nThis is a rain or shine event\nPets are not allowed within the festival boundaries\nTown staff may be on site during the festival taking photos/video of festival events and attendees
URL:https://exploreapexnc.com/event-single-post-name/peakfest-2/
LOCATION:Apex Town Campus\, 73 Hunter Street\, Apex\, NC\, 27502\, United States
ATTACH;FMTTYPE=image/jpeg:https://exploreapexnc.com/wp-content/uploads/2026/03/Peakfest-Crowd.jpg
END:VEVENT
END:VCALENDAR