BEGIN:VCALENDAR
VERSION:2.0
PRODID:-//Explore Apex - ECPv6.15.20//NONSGML v1.0//EN
CALSCALE:GREGORIAN
METHOD:PUBLISH
X-ORIGINAL-URL:https://exploreapexnc.com
X-WR-CALDESC:Events for Explore Apex
REFRESH-INTERVAL;VALUE=DURATION:PT1H
X-Robots-Tag:noindex
X-PUBLISHED-TTL:PT1H
BEGIN:VTIMEZONE
TZID:UTC
BEGIN:STANDARD
TZOFFSETFROM:+0000
TZOFFSETTO:+0000
TZNAME:UTC
DTSTART:20230101T000000
END:STANDARD
END:VTIMEZONE
BEGIN:VEVENT
DTSTART;TZID=UTC:20260417T150000
DTEND;TZID=UTC:20260417T200000
DTSTAMP:20260423T182919
CREATED:20260323T151234Z
LAST-MODIFIED:20260323T151234Z
UID:10001188-1776438000-1776456000@exploreapexnc.com
SUMMARY:Downtown Apex Boutique Crawl
DESCRIPTION:Grab your besties and make plans for the ultimate girls’ night out at the 5th Annual Downtown Apex Boutique Crawl! \nShop your way through Downtown Apex and stop by Charley Madelyn\, Rose & Lee\, Stylish Living\, and The Tulip Magnolia for a night full of fun\, special in-store events\, and plenty of cute finds. Visit every boutique during the crawl and you’ll be entered to win one of 3 prizes! \nEven better? 5% of the evening’s sales will be donated to Western Wake Crisis Ministry\, so you can shop small and give back at the same time. \nJoin us for a night of supporting local!
URL:https://exploreapexnc.com/event-single-post-name/downtown-apex-boutique-crawl/
LOCATION:Downtown Apex\, 220 N Salem Street\, Apex\, NC\, 27502\, United States
ATTACH;FMTTYPE=image/png:https://exploreapexnc.com/wp-content/uploads/2026/03/IG-Post-1.png
ORGANIZER;CN="Rose &amp%3B Lee Co":MAILTO:hello@roseandleeco.com
END:VEVENT
BEGIN:VEVENT
DTSTART;TZID=UTC:20260320T170000
DTEND;TZID=UTC:20260320T210000
DTSTAMP:20260423T182919
CREATED:20260204T200843Z
LAST-MODIFIED:20260216T152637Z
UID:10000974-1774026000-1774040400@exploreapexnc.com
SUMMARY:Shamrock Showdown
DESCRIPTION:The Downtown Apex Shamrock Showdown is a NEW annual celebration that combines St. Patty’s Day spirit\, college basketball excitement\, and community pride. Residents and visitors are invited to wear green or their favorite college team gear and enjoy exclusive specials at participating downtown businesses.
URL:https://exploreapexnc.com/event-single-post-name/shamrock-showdown/
LOCATION:Downtown Apex\, 220 N Salem Street\, Apex\, NC\, 27502\, United States
ATTACH;FMTTYPE=image/png:https://exploreapexnc.com/wp-content/uploads/2026/02/FINAL-LOGO.png
ORGANIZER;CN="Apex Economic Development":MAILTO:Colleen.Merays@apexnc.org
END:VEVENT
BEGIN:VEVENT
DTSTART;TZID=UTC:20251206T170000
DTEND;TZID=UTC:20251206T190000
DTSTAMP:20260423T182919
CREATED:20251110T202219Z
LAST-MODIFIED:20251110T202219Z
UID:10000650-1765040400-1765047600@exploreapexnc.com
SUMMARY:Apex Rotary Christmas Parade
DESCRIPTION:The Annual Apex Rotary Christmas Parade traditionally takes place the first Saturday of December. The parade is the only nighttime holiday parade in Wake County. The Apex Rotary Club organizes the parade\, with proceeds benefitting numerous local charities; the primary benefactor being Western Wake Crisis Ministry. The parade kicks off at Apex Peakway and Ambergate Station\, turning down Salem Street\, and ending at Moore Street.
URL:https://exploreapexnc.com/event-single-post-name/apex-rotary-christmas-parade-2/
LOCATION:Downtown Apex\, 220 N Salem Street\, Apex\, NC\, 27502\, United States
ATTACH;FMTTYPE=image/jpeg:https://exploreapexnc.com/wp-content/uploads/2025/11/ywkangozivapynumsxyp_6000_4000-scaled.jpg
END:VEVENT
BEGIN:VEVENT
DTSTART;VALUE=DATE:20251205
DTEND;VALUE=DATE:20251215
DTSTAMP:20260423T182919
CREATED:20251010T131632Z
LAST-MODIFIED:20251010T131632Z
UID:10000540-1764892800-1765756799@exploreapexnc.com
SUMMARY:Snowman Stroll on Salem
DESCRIPTION:We’re excited to bring back the Snowman Stroll on Salem! This event will kick off on Friday\, December 5th\, alongside the Annual Apex Tree Lighting Ceremony\, and will run through Sunday\, December 14th. The Snowman Stroll on Salem is a festive promotional event designed to enhance your holiday experience in Downtown Apex. As you explore\, collect passport stamps by visiting participating businesses and engaging in a variety of holiday activities. Each stop will feature delightful snowman and winter-themed specials\, decorations\, and unique offerings.
URL:https://exploreapexnc.com/event-single-post-name/snowman-stroll-on-salem-2/
LOCATION:Downtown Apex\, 220 N Salem Street\, Apex\, NC\, 27502\, United States
ATTACH;FMTTYPE=image/png:https://exploreapexnc.com/wp-content/uploads/2025/10/website-square-1.png
ORGANIZER;CN="Apex Economic Development":MAILTO:Colleen.Merays@apexnc.org
END:VEVENT
BEGIN:VEVENT
DTSTART;TZID=UTC:20251024T170000
DTEND;TZID=UTC:20251024T210000
DTSTAMP:20260423T182919
CREATED:20250923T162237Z
LAST-MODIFIED:20250923T162237Z
UID:10000494-1761325200-1761339600@exploreapexnc.com
SUMMARY:Witches Night Out
DESCRIPTION:Dust off your broomsticks and grab your pointy hats—it’s time for Witches Night Out on Salem Street in Downtown Apex! Join us on October 24th from 5 PM to 9 PM\, as your favorite downtown spots stay open late with magical experiences and spellbinding promotions. \nDon’t miss out on this year’s Witches Night Out—mark your calendars for an enchanting evening!
URL:https://exploreapexnc.com/event-single-post-name/witches-night-out-2/
LOCATION:Downtown Apex\, 220 N Salem Street\, Apex\, NC\, 27502\, United States
ATTACH;FMTTYPE=image/jpeg:https://exploreapexnc.com/wp-content/uploads/2025/09/FB-Header.jpg
ORGANIZER;CN="Apex Economic Development":MAILTO:Colleen.Merays@apexnc.org
END:VEVENT
BEGIN:VEVENT
DTSTART;TZID=UTC:20251005T110000
DTEND;TZID=UTC:20251005T160000
DTSTAMP:20260423T182919
CREATED:20250923T161408Z
LAST-MODIFIED:20250923T161441Z
UID:10000493-1759662000-1759680000@exploreapexnc.com
SUMMARY:Love Local Showcase
DESCRIPTION:Experience the beauty of downtown Apex with the Apex Love Local Showcase! Spend the afternoon exploring Apex small businesses all in one convenient destination. Downtown and non-Downtown businesses will team up to showcase what they offer—featuring samples\, swag\, and special promotions. Come enjoy the vibrant atmosphere\, discover new favorites\, and take advantage of exclusive promotions throughout the Showcase.
URL:https://exploreapexnc.com/event-single-post-name/love-local-showcase/
LOCATION:Downtown Apex\, 220 N Salem Street\, Apex\, NC\, 27502\, United States
ATTACH;FMTTYPE=image/png:https://exploreapexnc.com/wp-content/uploads/2025/09/LoveLocal2025-FacebookEvent.png
ORGANIZER;CN="Apex Economic Development":MAILTO:Colleen.Merays@apexnc.org
END:VEVENT
BEGIN:VEVENT
DTSTART;TZID=UTC:20250719T110000
DTEND;TZID=UTC:20250719T220000
DTSTAMP:20260423T182919
CREATED:20250718T202818Z
LAST-MODIFIED:20250718T202818Z
UID:10000308-1752922800-1752962400@exploreapexnc.com
SUMMARY:The Local Spot | Downtown Apex Social District - Summer Passport
DESCRIPTION:Be part of the summer fun!\nStarting July 19th through September 2nd\, 2025 grab your Local Spot Passport and discover all of the great places where you’re welcome to sip\, shop\, stroll\, and experience the Peak of Good Living.\nParticipating businesses within the social district boundaries have been broken up into 2 different types of stops: Shop Stops\, which are retail based businesses\, and Sip Stops\, where you can purchase a Local Spot beverage. \nHow to Participate:\n1.Grab Your Free Passport\nYou can pick up a Local Spot Passport at any participating Sip Stop\, The Depot/Welcome Center (220 N Salem St)\, or download a PDF and print it at home! \n2. Sip\, Shop & Collect Signatures\nGrab a drink or just stop into Sip Stops and Shop Stops and ask for a signature in your passport!\nGet signatures from:\n6 different Sip Stops\n6 different Shop Stops\nNo purchases are required at either stops to collect a signature\, but supporting local businesses is highly encouraged. \n3. Turn In Your Completed Passport\nSubmit your completed passport at The Depot/Welcome Center between 9 am – 4 pm\, Monday – Friday\, to receive a Local Spot Summer Prize\, that includes:\n1. Choice of Peak of Good Living branded wine tumbler or pint glass\n2. One entry into our end-of-summer Local Spot-themed raffle with prizes valued at over $125! \nParticipants may submit their completed passport after business hours by dropping it off in The Depot/Welcome Center mail slot. However\, you will need to appear in person during business hours to receive a Local Spot Summer Prize.\nLearn more by visiting www.apexnc.org/localspot\nFor an interactive Google Map visit: https://bit.ly/TheLocalSpotMap
URL:https://exploreapexnc.com/event-single-post-name/the-local-spot-downtown-apex-social-district-summer-passport/
LOCATION:Downtown Apex\, 220 N Salem Street\, Apex\, NC\, 27502\, United States
ATTACH;FMTTYPE=image/png:https://exploreapexnc.com/wp-content/uploads/2025/07/Bring-In-Your-Passport-Social-Media-2.png
END:VEVENT
BEGIN:VEVENT
DTSTART;TZID=UTC:20250508T160000
DTEND;TZID=UTC:20250508T190000
DTSTAMP:20260423T182919
CREATED:20250410T191331Z
LAST-MODIFIED:20250410T191331Z
UID:10000156-1746720000-1746730800@exploreapexnc.com
SUMMARY:Apex Love Local Showcase "Spring Edition"
DESCRIPTION:🌸 Spring Into Love Local at the Apex Love Local Showcase! 🌸 \nGet ready for an evening filled with discovery\, fun\, and local flair at the Spring Edition of the Apex Love Local Showcase! Whether you’re hunting for unique gifts or simply want to support the incredible small businesses in your community\, this is the perfect event to kickstart your Spring and Summer shopping – all while celebrating Apex/National Small Business Week. \n✨ What’s in store? \nSip\, Shop\, Taste\, & Explore: Indulge in local treats and beverages\, discover exclusive promotions\, and take advantage of special deals from businesses across Apex\, all in one convenient location of Downtown Apex. \nMeet the Makers and Owners: Mingle with passionate business owners and fellow shoppers\, and experience the best of Apex’s local talent and creativity. \nFun for All: Bring your friends and family along to enjoy the lively atmosphere and find the perfect gifts or treasures to enhance your Spring/Summer adventures. \nWhether you’re browsing for a one-of-a-kind gift or just soaking in the local vibes\, you’ll leave with a smile – and maybe a bag full of local treasures! \n🎉 Don’t miss out on this celebration of all things local! Mark your calendar\, come ready to shop\, sip\, and support our amazing community! \n🔗 Visit www.apexnc.org/Love-Local-Showcase for more info. \n🔗 Visit www.apexnc.org/2037/Downtown-Parking for Downtown Apex Parking information. \nWe can’t wait to see you there! 💖
URL:https://exploreapexnc.com/event-single-post-name/apex-love-local-showcase-spring-edition/
LOCATION:Downtown Apex\, 220 N Salem Street\, Apex\, NC\, 27502\, United States
ATTACH;FMTTYPE=image/png:https://exploreapexnc.com/wp-content/uploads/2025/04/website-square.png
ORGANIZER;CN="Apex Economic Development":MAILTO:Colleen.Merays@apexnc.org
END:VEVENT
BEGIN:VEVENT
DTSTART;TZID=UTC:20250503T090000
DTEND;TZID=UTC:20250503T170000
DTSTAMP:20260423T182919
CREATED:20250325T141244Z
LAST-MODIFIED:20250325T141244Z
UID:10000137-1746262800-1746291600@exploreapexnc.com
SUMMARY:PeakFest
DESCRIPTION:Celebrate the Peak of Good Living at PeakFest\, each year on the first Saturday in May. Downtown Apex is transformed into a giant street fair\, and usually features: \nOver 100 vendors with a wide variety of arts and crafts\nFestival food and food trucks\nLive music and entertainment\nKids Zone with inflatables\nRoving street performers\nKnow Before You Go:\nView the downtown parking map for walkable parking locations.\nThis is a rain or shine event\nSalem Street from Hunter Street to NC 55 will be closed Saturday\, May 3rd from 6 am to 8 pm\nSome parking on Seaboard Street will be closed.\nAdditional accessible parking is available near the Halle Cultural Arts Center and on Seaboard Street. First come\, first served spaces! Vehicles must have an accessible placard or decal in order to access the spaces.\nGoApex Route 1 will run on an alternate schedule. Learn more and view the route\nPets are not allowed within the festival boundaries\nTown staff may be on site during the festival taking photos/video of festival events and attendees
URL:https://exploreapexnc.com/event-single-post-name/peakfest/
LOCATION:Downtown Apex\, 220 N Salem Street\, Apex\, NC\, 27502\, United States
ATTACH;FMTTYPE=image/jpeg:https://exploreapexnc.com/wp-content/uploads/2025/03/Peakfest-Crowd-2.jpg
END:VEVENT
BEGIN:VEVENT
DTSTART;TZID=UTC:20241213T170000
DTEND;TZID=UTC:20241213T210000
DTSTAMP:20260423T182919
CREATED:20241205T140225Z
LAST-MODIFIED:20241205T140225Z
UID:10000053-1734109200-1734123600@exploreapexnc.com
SUMMARY:Downtown Apex Ugly Sweater Party
DESCRIPTION:Get ready to sleigh the night away in your most delightfully tacky holiday sweaters! 🌟 Join us for the Downtown Apex Ugly Sweater Party\, where festive fashion meets late-night holiday shopping fun.\nEvent Highlights:\n✨ Participating stores will stay open late\, offering exclusive deals\, holiday treats\, and gift-wrapping services for those donning their ugliest of sweaters!\n✨ Stroll through our charming downtown\, decked out in twinkling lights and holiday cheer.\n✨ Wrap up your shopping while soaking in the festive vibes.\n✨ Whether you’re hunting for the perfect gift\, enjoying delicious treats\, or just want to rock your ugliest sweater\, this event is for you! \n📌 Don’t forget to bring your friends and family—it’s the most wonderful time to shop\, celebrate\, and support local businesses! \nFollow our Facebook event for updates and participating store details: https://www.facebook.com/events/1624713295120202?acontext=%7B%22event_action_history%22%3A[]%7D
URL:https://exploreapexnc.com/event-single-post-name/downtown-apex-ugly-sweater-party/
LOCATION:Downtown Apex\, 220 N Salem Street\, Apex\, NC\, 27502\, United States
ATTACH;FMTTYPE=image/png:https://exploreapexnc.com/wp-content/uploads/2024/12/IG-Post-1-Ugly-Sweater-1.png
END:VEVENT
BEGIN:VEVENT
DTSTART;TZID=UTC:20241207T170000
DTEND;TZID=UTC:20241207T190000
DTSTAMP:20260423T182919
CREATED:20241017T204736Z
LAST-MODIFIED:20241018T193419Z
UID:10000034-1733590800-1733598000@exploreapexnc.com
SUMMARY:Apex Rotary Christmas Parade
DESCRIPTION:The Annual Apex Rotary Christmas Parade traditionally takes place the first Saturday of December. The parade is the only nighttime holiday parade in Wake County. The Apex Rotary Club organizes the parade\, with proceeds benefitting numerous local charities; the primary benefactor being Western Wake Crisis Ministry. The parade kicks off at Apex Peakway and Ambergate Station\, turning down Salem Street\, and ending at Moore Street. \nKnow Before You Go:\nThis is a rain or shine event.\nView the downtown parking map for walkable parking locations.\nTown staff may be on site during the event taking photos/video of the event and attendees.
URL:https://exploreapexnc.com/event-single-post-name/apex-rotary-christmas-parade/
LOCATION:Downtown Apex\, 220 N Salem Street\, Apex\, NC\, 27502\, United States
ATTACH;FMTTYPE=image/jpeg:https://exploreapexnc.com/wp-content/uploads/2024/10/2023-Christmas-Parade-92-scaled-1.jpg
END:VEVENT
BEGIN:VEVENT
DTSTART;VALUE=DATE:20241206
DTEND;VALUE=DATE:20241216
DTSTAMP:20260423T182919
CREATED:20241016T201800Z
LAST-MODIFIED:20241016T201800Z
UID:10000030-1733443200-1734307199@exploreapexnc.com
SUMMARY:Snowman Stroll on Salem
DESCRIPTION:The Snowman Stroll on Salem is a festive promotional event designed to enhance your holiday experience in Downtown Apex. As you explore\, collect passport stamps by visiting participating businesses and engaging in a variety of holiday activities. Each stop will feature delightful snowman and winter-themed specials\, decorations\, and unique offerings. \nHow to Participate and Earn Passport Stamps:\n1. Visit Downtown Snowman Stops: Collect stamps in your Snowman Stroll Passport by stopping at participating locations. \n2. Join in on Holiday Happenings: Attend the Annual Apex Tree Lighting\, take a Holiday Lights Tour\, and enjoy many other festive events. \n3. Engage in Merrymaking Activities: Purchase food or drinks\, buy gift cards\, create snowman-themed art for the Free Little Art Gallery\, or snap a festive selfie with a snowman and tag #SnowmanStrollApexNC2024. \n4. Enter the Raffle: Submit your completed passport by Monday\, December 16 for a chance to win exciting prizes! Each six stamps collected earns you one raffle entry.
URL:https://exploreapexnc.com/event-single-post-name/snowman-stroll-on-salem/
LOCATION:Downtown Apex\, 220 N Salem Street\, Apex\, NC\, 27502\, United States
ATTACH;FMTTYPE=image/png:https://exploreapexnc.com/wp-content/uploads/2024/10/save-the-date-nov-4.png
ORGANIZER;CN="Apex Economic Development":MAILTO:Colleen.Merays@apexnc.org
END:VEVENT
BEGIN:VEVENT
DTSTART;TZID=UTC:20241115T170000
DTEND;TZID=UTC:20241115T210000
DTSTAMP:20260423T182919
CREATED:20241108T202742Z
LAST-MODIFIED:20241108T202742Z
UID:10000042-1731690000-1731704400@exploreapexnc.com
SUMMARY:Friends Giving - Downtown Apex
DESCRIPTION:Gather your girlfriends and kick off the holiday season with an evening of fun\, shopping\, and giving back! Join us in downtown Apex for a special Friendsgiving event\, where you can explore charming boutiques and gift stores while enjoying quality time with friends before the holiday rush begins.\nAs you shop for unique gifts\, we invite you to support the Raleigh Women’s Shelter by bringing donations. Each store will be collecting much-needed items\, including:\n✨ Hygiene products (toothpaste\, soap\, etc.)\n✨ Feminine hygiene products\n✨ Depends and new underwear (men’s and women’s)\n✨ Gently used bras\n✨ Insect repellent\n✨ Garbage bags\n✨ Paper products (plates\, towels\, etc.)\n✨ Baby wipes/personal wipes\n✨ Body powder (like Gold Bond)\n✨ Rain gear (ponchos\, etc.)\nLet’s come together to spread joy\, support our community\, and make lasting memories! Enjoy exclusive discounts\, special promotions\, and a festive atmosphere. Don’t miss this chance to shop local and make a difference!\nWe can’t wait to celebrate the season of giving with you!
URL:https://exploreapexnc.com/event-single-post-name/friends-giving-downtown-apex/
LOCATION:Downtown Apex\, 220 N Salem Street\, Apex\, NC\, 27502\, United States
ATTACH;FMTTYPE=image/png:https://exploreapexnc.com/wp-content/uploads/2024/11/FRIENDS-GIVING-FB-EVENT.png
END:VEVENT
BEGIN:VEVENT
DTSTART;TZID=UTC:20241025T170000
DTEND;TZID=UTC:20241025T210000
DTSTAMP:20260423T182919
CREATED:20240925T152940Z
LAST-MODIFIED:20240925T152940Z
UID:10000027-1729875600-1729890000@exploreapexnc.com
SUMMARY:Witches Night Out
DESCRIPTION:Dust off your broomsticks and grab your pointy hats—it’s time for Witches Night Out on Salem Street in Downtown Apex! Join us on October 25th from 5 PM to 9 PM\, as your favorite downtown spots stay open late with magical experiences and spellbinding promotions.\nDon’t miss out on this year’s Witches Night Out—mark your calendars for an enchanting evening!\nCurrent Participating Businesses: Adventures In Bloom Alleyway Bookstore: 10% off all books Bear Hands | Gifts\, Workshop & Studio Cotton Wood Cottage French Bleue Gail and Grace: Giveaway with purchase Monroe Boutique The Perky Lady Rose & Lee Co Sawdust and Clay Stylish Living: 10% off The Tulip Magnolia\n…and more to come!\nJoin us for a bewitching night you won’t forget! 
URL:https://exploreapexnc.com/event-single-post-name/witches-night-out/
LOCATION:Downtown Apex\, 220 N Salem Street\, Apex\, NC\, 27502\, United States
ATTACH;FMTTYPE=image/png:https://exploreapexnc.com/wp-content/uploads/2024/09/Save-The-Date.png
END:VEVENT
BEGIN:VEVENT
DTSTART;TZID=UTC:20241006T110000
DTEND;TZID=UTC:20241006T160000
DTSTAMP:20260423T182919
CREATED:20240917T201430Z
LAST-MODIFIED:20240917T201430Z
UID:10000026-1728212400-1728230400@exploreapexnc.com
SUMMARY:Apex "Love Local" Showcase
DESCRIPTION:Join Apex Economic Development as we “Love Local” Apex businesses and they “Showcase” why Apex is the “Peak of Good Business!”\nAt the Apex Love Local Showcase attendees will be able to shop\, sample\, stroll and experience Apex businesses all in one destination!\nFor more information\, visit: www.apexnc.org/Love-Local-Showcase
URL:https://exploreapexnc.com/event-single-post-name/apex-love-local-showcase/
LOCATION:Downtown Apex\, 220 N Salem Street\, Apex\, NC\, 27502\, United States
ATTACH;FMTTYPE=image/png:https://exploreapexnc.com/wp-content/uploads/2024/09/Social-media-graphic-for-businesses.png
ORGANIZER;CN="Apex Economic Development":MAILTO:Colleen.Merays@apexnc.org
END:VEVENT
BEGIN:VEVENT
DTSTART;TZID=UTC:20240704T090000
DTEND;TZID=UTC:20240704T130000
DTSTAMP:20260423T182919
CREATED:20240515T195548Z
LAST-MODIFIED:20240515T195548Z
UID:10000003-1720083600-1720098000@exploreapexnc.com
SUMMARY:Olde Fashioned Fourth of July
DESCRIPTION:This long-standing traditional event features games for all ages\, inflatables\, the Parade of Wheels\, and ends with a splash down from the Apex Fire Department!  (Vendors\, use this link to apply to participate.) \nThis year’s event features: \n\nFood trucks including Bobasaur\, Cream and Sugar\, D&J Concessions\, Stick Happens\, Peach Cobbler Factory\nPerformers including Funk Nation\, Flow Circus\, Uncle Sam stilt walker\, Lady Liberty\, Pop Up Circus\, and Interactive Hula Hoop\n\nSchedule of Events\n\n9 am: Flag Raising / Mayor’s Speech\n9:15 am: Activities begin (inflatables\, giant slide\, ice cream & other food vendors\, face painting\, karaoke contest\, carnival games and more!)\n11:30 am: Parade of Wheels line-up \nKids are invited to decorate bikes\, wagons\, tricycles\, or other non-motorized vehicles in red\, white\, and blue. The Parade starts at the corner of Salem Street & Chatham Street. Helmets are required. Register to receive updates due to weather here!\n12 pm: Parade of Wheels\nFire Department Splash Down will immediately follow the Parade! Bring a towel to dry off after!\n\nKnow Before You Go: \n\nView the downtown parking map  for walkable parking locations.\nDowntown streets will be closed from 6 am – 2 pm. Salem Street will be closed from Moore Street to Center Street\, along with adjacent sections of Chatham Street and Saunders Street\, during the festival.\nThis is a rain or shine event. However\, the event may be cancelled if conditions are too severe.\nGoApex Route 1 does not operate on July 4th.\nNo pets allowed.\nTown staff may be on site during the festival taking photos/video of festival events and attendees.
URL:https://exploreapexnc.com/event-single-post-name/olde-fashioned-fourth-of-july/
LOCATION:Downtown Apex\, 220 N Salem Street\, Apex\, NC\, 27502\, United States
ATTACH;FMTTYPE=image/jpeg:https://exploreapexnc.com/wp-content/uploads/2024/05/2023-Olde-Fashioned-Fourth-of-July-22-1.jpg
END:VEVENT
END:VCALENDAR