BEGIN:VCALENDAR
VERSION:2.0
PRODID:-//Explore Apex - ECPv6.15.20//NONSGML v1.0//EN
CALSCALE:GREGORIAN
METHOD:PUBLISH
X-ORIGINAL-URL:https://exploreapexnc.com
X-WR-CALDESC:Events for Explore Apex
REFRESH-INTERVAL;VALUE=DURATION:PT1H
X-Robots-Tag:noindex
X-PUBLISHED-TTL:PT1H
BEGIN:VTIMEZONE
TZID:UTC
BEGIN:STANDARD
TZOFFSETFROM:+0000
TZOFFSETTO:+0000
TZNAME:UTC
DTSTART:20240101T000000
END:STANDARD
END:VTIMEZONE
BEGIN:VEVENT
DTSTART;TZID=UTC:20251115T090000
DTEND;TZID=UTC:20251115T150000
DTSTAMP:20260423T180908
CREATED:20251023T205747Z
LAST-MODIFIED:20251023T210059Z
UID:10000571-1763197200-1763218800@exploreapexnc.com
SUMMARY:Salem Baptist Preschool Holiday Market
DESCRIPTION:Join us for November 14th and 15th from 9AM-3PM for our annual Holiday Market in Apex—a two-day event featuring over 60 local vendors\, a bake sale fundraiser\, and free supervised childcare on Saturday. Enjoy complimentary photos with Santa on Saturday and shop a wide variety of handmade gifts and seasonal goods. \nFree entry!
URL:https://exploreapexnc.com/event-single-post-name/salem-baptist-preschool-holiday-market-2/2025-11-15/
LOCATION:Salem Baptist Church\, 1821 N. Salem Street\, Apex\, NC\, 27523\, United States
ATTACH;FMTTYPE=image/jpeg:https://exploreapexnc.com/wp-content/uploads/2025/10/Holiday-Market.jpg
END:VEVENT
BEGIN:VEVENT
DTSTART;TZID=UTC:20251114T090000
DTEND;TZID=UTC:20251114T150000
DTSTAMP:20260423T180908
CREATED:20251023T205747Z
LAST-MODIFIED:20251023T210059Z
UID:10000569-1763110800-1763132400@exploreapexnc.com
SUMMARY:Salem Baptist Preschool Holiday Market
DESCRIPTION:Join us for November 14th and 15th from 9AM-3PM for our annual Holiday Market in Apex—a two-day event featuring over 60 local vendors\, a bake sale fundraiser\, and free supervised childcare on Saturday. Enjoy complimentary photos with Santa on Saturday and shop a wide variety of handmade gifts and seasonal goods. \nFree entry!
URL:https://exploreapexnc.com/event-single-post-name/salem-baptist-preschool-holiday-market-2/2025-11-14/
LOCATION:Salem Baptist Church\, 1821 N. Salem Street\, Apex\, NC\, 27523\, United States
ATTACH;FMTTYPE=image/jpeg:https://exploreapexnc.com/wp-content/uploads/2025/10/Holiday-Market.jpg
END:VEVENT
END:VCALENDAR