BEGIN:VCALENDAR
VERSION:2.0
PRODID:-//Explore Apex - ECPv6.15.20//NONSGML v1.0//EN
CALSCALE:GREGORIAN
METHOD:PUBLISH
X-ORIGINAL-URL:https://exploreapexnc.com
X-WR-CALDESC:Events for Explore Apex
REFRESH-INTERVAL;VALUE=DURATION:PT1H
X-Robots-Tag:noindex
X-PUBLISHED-TTL:PT1H
BEGIN:VTIMEZONE
TZID:UTC
BEGIN:STANDARD
TZOFFSETFROM:+0000
TZOFFSETTO:+0000
TZNAME:UTC
DTSTART:20250101T000000
END:STANDARD
END:VTIMEZONE
BEGIN:VEVENT
DTSTART;TZID=UTC:20260425T160000
DTEND;TZID=UTC:20260425T210000
DTSTAMP:20260423T165604
CREATED:20260212T170953Z
LAST-MODIFIED:20260212T170953Z
UID:10001013-1777132800-1777150800@exploreapexnc.com
SUMMARY:Carolina Roller Derby Double Header
DESCRIPTION:Cue confetti. Blast the air horns! The Carolina Roller Derby charter teams are back for their season opener on Saturday\, April 25 at XL Sports! In this magnificent double header\, the CRD All Stars take on Panhandle United Roller Derby. The Bootleggers follow with a face off against the Richland County Regulators. (This is CRD’s first time back at XL Sports since September 2024 and we’re excited to be playing once again in Apex.) \nFirst whistle is at 5 pm and second whistle is at 7 pm. \nSCHEDULE:\n4:00 PM: Doors open\n5:00 PM: All Stars vs. Panhandle United\n7:00 PM: Bootleggers vs. Richland County Regulators \nTICKETS:\nAdults: $15 in advance; $20 at the door — Get your tickets now for the best rate!\nChildren ages 6-12: $8\nChildren 5 and under: Free \nMORE INFO:\nSome rink seating will be provided\, and guests can bring their own chairs.\nConcessions will be available onsite.\nPlease review our Fan Code of Conduct before you come.\nFollow us on Instagram or Facebook @carolinarollerderby for updates!
URL:https://exploreapexnc.com/event-single-post-name/carolina-roller-derby-double-header/
LOCATION:XL Sports\, 1016 Investment Blvd.\, Apex\, NC\, 27502\, United States
ATTACH;FMTTYPE=image/jpeg:https://exploreapexnc.com/wp-content/uploads/2026/02/Brunch-bout-4.jpg
ORGANIZER;CN="Carolina Roller Derby":MAILTO:marketingdirector@carolinarollerderby.com
END:VEVENT
END:VCALENDAR